BEGIN:VCALENDAR
VERSION:2.0
PRODID:-//NKS Oslo fylke - ECPv6.15.12//NONSGML v1.0//EN
CALSCALE:GREGORIAN
METHOD:PUBLISH
X-ORIGINAL-URL:https://nksoslofylke.no
X-WR-CALDESC:Arrangement for NKS Oslo fylke
REFRESH-INTERVAL;VALUE=DURATION:PT1H
X-Robots-Tag:noindex
X-PUBLISHED-TTL:PT1H
BEGIN:VTIMEZONE
TZID:Europe/Oslo
BEGIN:DAYLIGHT
TZOFFSETFROM:+0100
TZOFFSETTO:+0200
TZNAME:CEST
DTSTART:20240331T010000
END:DAYLIGHT
BEGIN:STANDARD
TZOFFSETFROM:+0200
TZOFFSETTO:+0100
TZNAME:CET
DTSTART:20241027T010000
END:STANDARD
BEGIN:DAYLIGHT
TZOFFSETFROM:+0100
TZOFFSETTO:+0200
TZNAME:CEST
DTSTART:20250330T010000
END:DAYLIGHT
BEGIN:STANDARD
TZOFFSETFROM:+0200
TZOFFSETTO:+0100
TZNAME:CET
DTSTART:20251026T010000
END:STANDARD
BEGIN:DAYLIGHT
TZOFFSETFROM:+0100
TZOFFSETTO:+0200
TZNAME:CEST
DTSTART:20260329T010000
END:DAYLIGHT
BEGIN:STANDARD
TZOFFSETFROM:+0200
TZOFFSETTO:+0100
TZNAME:CET
DTSTART:20261025T010000
END:STANDARD
END:VTIMEZONE
BEGIN:VEVENT
DTSTART;TZID=Europe/Oslo:20251203T143000
DTEND;TZID=Europe/Oslo:20251203T163000
DTSTAMP:20260426T042055
CREATED:20251127T143226Z
LAST-MODIFIED:20251130T212405Z
UID:9695-1764772200-1764779400@nksoslofylke.no
SUMMARY:Julemøte Grefsen\, Kjelsås og omegn sanitetsforening
DESCRIPTION:Julemøte Grefsen\, Kjelsås og omegn sanitetsforening\nGrefsen\, Kjelsås og omegn sanitetsforening inviterer til julemøte 3. desember. Vi får besøk av Tove Taalesen\, som er Norges første kvinnelige lakei ved Slottet\, og hun skal fortelle om kongelig julefeiring og litt om sin tid ved det kongelige hoff. I år har hun gitt ut juleheftet «Kongelig Jul»\, som det blir mulig å få kjøpt på møtet. Vi møtes kl. 18 i Storstua i Grefsentunet 2. Det blir julepreget servering\, god stemning og utlodning. \nFB-event: https://www.facebook.com/GKOSanitetsforening
URL:https://nksoslofylke.no/kalender/3-desember-kl-14-30-16-30-julemote/
LOCATION:Storstua\, Grefsentunet 2\, Grefsentunet 2\, Oslo\, 0488\, Norway
ATTACH;FMTTYPE=image/jpeg:https://nksoslofylke.no/wp-content/uploads/2025/11/AdobeStock_17958839-scaled.jpeg
END:VEVENT
BEGIN:VEVENT
DTSTART;TZID=Europe/Oslo:20251203T170000
DTEND;TZID=Europe/Oslo:20251203T170000
DTSTAMP:20260426T042055
CREATED:20251127T145250Z
LAST-MODIFIED:20251128T110233Z
UID:9705-1764781200-1764781200@nksoslofylke.no
SUMMARY:Julemøte for medlemmer i Frognerparken sanitetsforening
DESCRIPTION:Julemøte for medlemmer i Frognerparken sanitetsforening\nJulen er sansenes høytid. De vekkes til live i adventstiden med lukten av nystekte pepperkakerog smult bakst. Når julehøytiden ringes inn\, siver duften av ribbe og surkål eller pinnekjøtt utfra kjøkkenet. \nI kveld skal vi smake\, smatte og spise oss gjennom noen av våre norske julehistorier sammenmed NKS Frognerparken’s jule-entusiast\, Liv Berit Tessem\, mens vi nyter noen av julensgode smaker. \nVi ønsker dere velkommen til Homansbyen Nærmiljøhus\, Hegdehaugsveien 19\, (nedenforLorry) den 3. desember kl 1700. \nDet blir servering av julesnitter og julekaker\, samt julelotteri med flotte gevinster. \nAlt dette får du for kr 100 som vipse til: 87736 (Medlemsmøte). \nHåper du har lyst til å komme til en hyggelig samling sammen med Frognerparken NKS damer. \n  \nPåmelding til Nina Rynning nina.rynning@outlook.com eller \nEllen Olsson ellen54.olsson@gmail.com  innen 26.11. \nVi gleder oss til å se deg! \nVELKOMMEN
URL:https://nksoslofylke.no/kalender/juletreff-med-frognerparken-nks-damer/
LOCATION:Homansbyen Nærmiljøhus\, Hegdehaugsveien 19
ATTACH;FMTTYPE=image/jpeg:https://nksoslofylke.no/wp-content/uploads/2025/11/AdobeStock_129521396-scaled.jpeg
END:VEVENT
END:VCALENDAR