BEGIN:VCALENDAR
VERSION:2.0
PRODID:-//NKS Oslo fylke - ECPv6.15.12//NONSGML v1.0//EN
CALSCALE:GREGORIAN
METHOD:PUBLISH
X-ORIGINAL-URL:https://nksoslofylke.no
X-WR-CALDESC:Arrangement for NKS Oslo fylke
REFRESH-INTERVAL;VALUE=DURATION:PT1H
X-Robots-Tag:noindex
X-PUBLISHED-TTL:PT1H
BEGIN:VTIMEZONE
TZID:Europe/Oslo
BEGIN:DAYLIGHT
TZOFFSETFROM:+0100
TZOFFSETTO:+0200
TZNAME:CEST
DTSTART:20250330T010000
END:DAYLIGHT
BEGIN:STANDARD
TZOFFSETFROM:+0200
TZOFFSETTO:+0100
TZNAME:CET
DTSTART:20251026T010000
END:STANDARD
BEGIN:DAYLIGHT
TZOFFSETFROM:+0100
TZOFFSETTO:+0200
TZNAME:CEST
DTSTART:20260329T010000
END:DAYLIGHT
BEGIN:STANDARD
TZOFFSETFROM:+0200
TZOFFSETTO:+0100
TZNAME:CET
DTSTART:20261025T010000
END:STANDARD
BEGIN:DAYLIGHT
TZOFFSETFROM:+0100
TZOFFSETTO:+0200
TZNAME:CEST
DTSTART:20270328T010000
END:DAYLIGHT
BEGIN:STANDARD
TZOFFSETFROM:+0200
TZOFFSETTO:+0100
TZNAME:CET
DTSTART:20271031T010000
END:STANDARD
END:VTIMEZONE
BEGIN:VEVENT
DTSTART;TZID=Europe/Oslo:20260119T160000
DTEND;TZID=Europe/Oslo:20260119T160000
DTSTAMP:20260425T161107
CREATED:20260109T184922Z
LAST-MODIFIED:20260110T092932Z
UID:9966-1768838400-1768838400@nksoslofylke.no
SUMMARY:Frognerparken sanitetsforening inviterer til pynting av fastelavnsris over flere dager med start 19. januar kl 16.00
DESCRIPTION:Vil du være med å pynte årets fastelavnsris? Bli med når som helst i dagene 19.\, 20.\, 27. og 28. januar\, og 3. og 4. februar! \nBjørkeris med fjær har satt farge på mange tusener hjem siden Sanitetskvinnene hentet fastelavnsriset til Norge for 80 år siden. Årlig selger Sanitetskvinnene til sammen fastelavnsris for 10 – 12 millioner kroner. Hver krone går til å finansiere forskning som gir livsviktig kunnskap om kvinners helse. Veldig snart er tiden for å pynte og selge fastelavnsris. Frognerparken NKS skal pynte og selge 1100 ris. \nHar du lyst til å bli med?  \nVi starter pyntingen i Solskinnsveien 12 på Smestad\, hvor vi låner lokale av Oslo sanitetsforening den 19. januar kl 1600. Da vil du få høre historien om Sanitetskvinnenes fastelavnsris. Kanskje kjenner du noen som har vært med  helt fra begynnelsen – eller har en historie om å pynte som barn\, og nå gjøre det sammen med egne barn eller barnebarn? \nVi starter pyntingen med litt bobler i glasset og lett servering. Velkommen skal du være! \nResten av pynting av ris med fjær er på følgende dager i Solskinnsveien 12:  \nMandag 19. januar:  Kl 16.00 – 19.30 \nTirsdag 20. januar:  Kl. 10.00 – 15.00 og kl. 16.00 – 19.30 \nTirsdag 27. januar:  Kl 10.00  – 15.00 og kl. 16.00 – 19.30 \nOnsdag 28. januar:  Kl 10.00  – 15.00 og kl. 16.00 – 19.30 \nTirsdag 3. februar:   Kl 10.00  – 15.00  og kl. 16.00 – 19.30 \nOnsdag 4. februar:    Kl 10.00  – 15.00 og kl. 16.00 – 19.30 \nDu er hjertelig velkommen innom når som helst disse formiddagene og ettermiddagene.  \nDu blir så lenge du har mulighet\, om det er en time eller tre – jo flere som bidrar\, jo raskere går det. \nServering av kaffe/te\, frukt og mye trivelig selskap. \nVi ønsker du sender svar enten Ellen Olsson\, ellen54olsson@gmail.com mobil 92 02 29 22 eller Nina Rynning\, nina.rynning@outlook.com mobil 97 66 22 66.
URL:https://nksoslofylke.no/kalender/bli-med-frognerparken-sanitetsforening-inviterer-til-pynting-av-fastelavnsris-med-start-19-januar-kl-16-00/
LOCATION:Solskinnsveien 12\, Solskinnsveien 12
ATTACH;FMTTYPE=image/png:https://nksoslofylke.no/wp-content/uploads/2026/01/Fastelavn.png
END:VEVENT
END:VCALENDAR