BEGIN:VCALENDAR
VERSION:2.0
PRODID:-//NKS Oslo fylke - ECPv6.15.12//NONSGML v1.0//EN
CALSCALE:GREGORIAN
METHOD:PUBLISH
X-WR-CALNAME:NKS Oslo fylke
X-ORIGINAL-URL:https://nksoslofylke.no
X-WR-CALDESC:Arrangement for NKS Oslo fylke
REFRESH-INTERVAL;VALUE=DURATION:PT1H
X-Robots-Tag:noindex
X-PUBLISHED-TTL:PT1H
BEGIN:VTIMEZONE
TZID:Europe/Oslo
BEGIN:DAYLIGHT
TZOFFSETFROM:+0100
TZOFFSETTO:+0200
TZNAME:CEST
DTSTART:20250330T010000
END:DAYLIGHT
BEGIN:STANDARD
TZOFFSETFROM:+0200
TZOFFSETTO:+0100
TZNAME:CET
DTSTART:20251026T010000
END:STANDARD
BEGIN:DAYLIGHT
TZOFFSETFROM:+0100
TZOFFSETTO:+0200
TZNAME:CEST
DTSTART:20260329T010000
END:DAYLIGHT
BEGIN:STANDARD
TZOFFSETFROM:+0200
TZOFFSETTO:+0100
TZNAME:CET
DTSTART:20261025T010000
END:STANDARD
BEGIN:DAYLIGHT
TZOFFSETFROM:+0100
TZOFFSETTO:+0200
TZNAME:CEST
DTSTART:20270328T010000
END:DAYLIGHT
BEGIN:STANDARD
TZOFFSETFROM:+0200
TZOFFSETTO:+0100
TZNAME:CET
DTSTART:20271031T010000
END:STANDARD
END:VTIMEZONE
BEGIN:VEVENT
DTSTART;TZID=Europe/Oslo:20260125T120000
DTEND;TZID=Europe/Oslo:20260125T140000
DTSTAMP:20260425T134750
CREATED:20260119T183817Z
LAST-MODIFIED:20260119T183817Z
UID:10077-1769342400-1769349600@nksoslofylke.no
SUMMARY:Kløvertur til Hovedøya 25. januar\, arrangert av Oslo sanitetsforening
DESCRIPTION:Oslo sanitetsforening arrangerer Kløvertur: Vintertur til Hovedøya. søndag 25. januar kl. 12-14 \nDenne søndagen blir det vintertur til Hovedøya. Dette historiske stedet i Oslofjorden gir oss muligheten til å kombinere frisk luft\, historie og naturskjønnhet. Hovedøya er en perle i Oslofjorden og har en historie som strekker seg tilbake til middelalderen. Øya byr på nydelige stier\, historiske ruiner og vakre naturområder. Vi ser frem til å utforske øyas skjulte hjørner og lære mer om dens kulturelle arv. \nTa med matpakke og drikke\, slik at vi kan kose oss med en velfortjent pause underveis. Husk å kle deg etter forholdene\, og ha på godt fottøy! \nPraktisk informasjon: \n\nMøtested: Møtested Aker brygge ved Fiskertorget klokka 12:10. Båt B1 går klokka 12:20\nVarighet: 2-3 timer\nVanskelighetsgrad: Enkel\nPåmelding gjøres ved å sende SMS til turleder Tona på nummer 951 30 504\n\nLes mer her.
URL:https://nksoslofylke.no/kalender/klovertur-til-hovedoya-25-januar-arrangert-av-oslo-sanitetsforening/
LOCATION:Hovedøya\, Hovedøya\, Oslo\, 0150\, Norway
ATTACH;FMTTYPE=image/jpeg:https://nksoslofylke.no/wp-content/uploads/2026/01/Hovedoya-002-scaled.jpeg
END:VEVENT
END:VCALENDAR