BEGIN:VCALENDAR
VERSION:2.0
PRODID:-//NKS Oslo fylke - ECPv6.15.12//NONSGML v1.0//EN
CALSCALE:GREGORIAN
METHOD:PUBLISH
X-ORIGINAL-URL:https://nksoslofylke.no
X-WR-CALDESC:Arrangement for NKS Oslo fylke
REFRESH-INTERVAL;VALUE=DURATION:PT1H
X-Robots-Tag:noindex
X-PUBLISHED-TTL:PT1H
BEGIN:VTIMEZONE
TZID:Europe/Oslo
BEGIN:DAYLIGHT
TZOFFSETFROM:+0100
TZOFFSETTO:+0200
TZNAME:CEST
DTSTART:20250330T010000
END:DAYLIGHT
BEGIN:STANDARD
TZOFFSETFROM:+0200
TZOFFSETTO:+0100
TZNAME:CET
DTSTART:20251026T010000
END:STANDARD
BEGIN:DAYLIGHT
TZOFFSETFROM:+0100
TZOFFSETTO:+0200
TZNAME:CEST
DTSTART:20260329T010000
END:DAYLIGHT
BEGIN:STANDARD
TZOFFSETFROM:+0200
TZOFFSETTO:+0100
TZNAME:CET
DTSTART:20261025T010000
END:STANDARD
BEGIN:DAYLIGHT
TZOFFSETFROM:+0100
TZOFFSETTO:+0200
TZNAME:CEST
DTSTART:20270328T010000
END:DAYLIGHT
BEGIN:STANDARD
TZOFFSETFROM:+0200
TZOFFSETTO:+0100
TZNAME:CET
DTSTART:20271031T010000
END:STANDARD
END:VTIMEZONE
BEGIN:VEVENT
DTSTART;TZID=Europe/Oslo:20260127T120000
DTEND;TZID=Europe/Oslo:20260127T140000
DTSTAMP:20260425T124549
CREATED:20260119T185438Z
LAST-MODIFIED:20260119T185729Z
UID:10085-1769515200-1769522400@nksoslofylke.no
SUMMARY:Strikk for premature i Oslo sanitetsforening våren 2026 - første gang 27. januar. Sjekk datoer!
DESCRIPTION:Strikk for premature i Oslo sanitetsforening – bli med og strikk for de aller minste! \nDato: 27.01\,10.02\, 24.02\, 10.03\, 24.03\, 07.04\, 21.04\, 05.05\, 19.05\, 02.06 og 16.06\nKlokkeslett 12-14\nSted: Solskinnsveien 12 \n Strikk for premature er en varm og inkluderende gruppe for frivillige som strikker små ullplagg og pledd til babyer innlagt på intensivavdelingen ved Ullevål sykehus. Her finner du en hyggelig møteplass med rom for alle\, enten du er nybegynner eller erfaren strikker. \nOslo Sanitetsforening stiller med garn og enkel servering\, så det er bare å ta med strikkelysten. Du trenger ikke å melde deg på Strikk for premature. Det er bare å komme innom. \nLes mer her: https://osf.no/tilbud-og-aktiviteter/strikk-for-premature \nFoto: Monica Jenssen
URL:https://nksoslofylke.no/kalender/strikk-for-premature-i-oslo-sanitetsforening-varen-2026-forste-gang-27-januar-sjekk-datoer/
LOCATION:Solskinnsveien 12\, Solskinnsveien 12
ATTACH;FMTTYPE=image/jpeg:https://nksoslofylke.no/wp-content/uploads/2026/01/Strikk-for-premature-002-scaled.jpg
END:VEVENT
END:VCALENDAR