BEGIN:VCALENDAR
VERSION:2.0
PRODID:-//NKS Oslo fylke - ECPv6.15.12//NONSGML v1.0//EN
CALSCALE:GREGORIAN
METHOD:PUBLISH
X-ORIGINAL-URL:https://nksoslofylke.no
X-WR-CALDESC:Arrangement for NKS Oslo fylke
REFRESH-INTERVAL;VALUE=DURATION:PT1H
X-Robots-Tag:noindex
X-PUBLISHED-TTL:PT1H
BEGIN:VTIMEZONE
TZID:Europe/Oslo
BEGIN:DAYLIGHT
TZOFFSETFROM:+0100
TZOFFSETTO:+0200
TZNAME:CEST
DTSTART:20250330T010000
END:DAYLIGHT
BEGIN:STANDARD
TZOFFSETFROM:+0200
TZOFFSETTO:+0100
TZNAME:CET
DTSTART:20251026T010000
END:STANDARD
BEGIN:DAYLIGHT
TZOFFSETFROM:+0100
TZOFFSETTO:+0200
TZNAME:CEST
DTSTART:20260329T010000
END:DAYLIGHT
BEGIN:STANDARD
TZOFFSETFROM:+0200
TZOFFSETTO:+0100
TZNAME:CET
DTSTART:20261025T010000
END:STANDARD
BEGIN:DAYLIGHT
TZOFFSETFROM:+0100
TZOFFSETTO:+0200
TZNAME:CEST
DTSTART:20270328T010000
END:DAYLIGHT
BEGIN:STANDARD
TZOFFSETFROM:+0200
TZOFFSETTO:+0100
TZNAME:CET
DTSTART:20271031T010000
END:STANDARD
END:VTIMEZONE
BEGIN:VEVENT
DTSTART;TZID=Europe/Oslo:20260129T110000
DTEND;TZID=Europe/Oslo:20260129T160000
DTSTAMP:20260425T124553
CREATED:20260122T173128Z
LAST-MODIFIED:20260128T183303Z
UID:10106-1769684400-1769702400@nksoslofylke.no
SUMMARY:Bli med på fastelavnsbinding i Blindern og Vinderen sanitetsforening fra 27. januar - 11. februar.
DESCRIPTION:Fra 27. januar og frem til 11. februar  binder vi fastelavnsris i Villa Ly. NB! Tirsdag 3. februar sitter vi på Vinderen-torvet og binder\, hygger og selger fra kl 14.00 til kl 17.00. \nSend oss gjerne en sms  om tidspunkt som kan passe å bidra så vi kan forberede oss på hvor mange vi blir. \n\n\n\nDato\nUkedag\nKlokkeslett\nSted\nKontaktperson/info\n\n\n27.01\nTirsdag\n11-16\nVilla Ly\nTurid og Anita\n\n\n28.01\nOnsdag\n16-19:30\nVilla Ly\nStrikkeklubben v/Margrethe\n\n\n29.01\nTorsdag\n11-16\nVilla Ly\nTurid og Anita\n\n\n02.02\nMandag\n11-17\nVilla Ly\nTurid og Anita/utkjøring av ris\n\n\n03.02\nTirsdag\n14-17\nVinderen\nAnita\n\n\n04.02\nOnsdag\n11-15\nVilla Ly\nTurid\n\n\n05.02\nTorsdag\n11-15\nVilla Ly\nTurid og Anita\n\n\n10.02\nTirsdag\n11-15\nVilla Ly\nTurid\n\n\n11.02\nOnsdag\n11-17\nVilla Ly\nTurid og Anita (Sjekk om nødvendig)\n\n\n12.02\nTorsdag\n13-17\nVinderen\nAnita m. flere?/Salg av risene\n\n\n13.02\nFredag\n13-17\nVinderen\nAnita m. flere?/ Salg av risene\n\n\n15.02\nSøndag\n\n\nFastelavnssøndag\n\n\n\nKontaktpersoner:\nTurid Gregersen     Mob: 95921010\nAnita A. Hoff        Mob: 91853398 \n 
URL:https://nksoslofylke.no/kalender/meld-deg-pa-fastelavnsbinding-i-blindern-og-vinderen-sanitetsforening-fra-27-januar/
LOCATION:Villa Ly\, Tennisveien 2G\, Tennisveien 2 G\, Oslo\, 0777\, Norway
ATTACH;FMTTYPE=image/jpeg:https://nksoslofylke.no/wp-content/uploads/2026/01/Fastelavnsbinding-i-Blindern-og-Vinderen-sanitetsforening.jpg
END:VEVENT
END:VCALENDAR