BEGIN:VCALENDAR
VERSION:2.0
PRODID:-//NKS Oslo fylke - ECPv6.15.12//NONSGML v1.0//EN
CALSCALE:GREGORIAN
METHOD:PUBLISH
X-ORIGINAL-URL:https://nksoslofylke.no
X-WR-CALDESC:Arrangement for NKS Oslo fylke
REFRESH-INTERVAL;VALUE=DURATION:PT1H
X-Robots-Tag:noindex
X-PUBLISHED-TTL:PT1H
BEGIN:VTIMEZONE
TZID:Europe/Oslo
BEGIN:DAYLIGHT
TZOFFSETFROM:+0100
TZOFFSETTO:+0200
TZNAME:CEST
DTSTART:20250330T010000
END:DAYLIGHT
BEGIN:STANDARD
TZOFFSETFROM:+0200
TZOFFSETTO:+0100
TZNAME:CET
DTSTART:20251026T010000
END:STANDARD
BEGIN:DAYLIGHT
TZOFFSETFROM:+0100
TZOFFSETTO:+0200
TZNAME:CEST
DTSTART:20260329T010000
END:DAYLIGHT
BEGIN:STANDARD
TZOFFSETFROM:+0200
TZOFFSETTO:+0100
TZNAME:CET
DTSTART:20261025T010000
END:STANDARD
BEGIN:DAYLIGHT
TZOFFSETFROM:+0100
TZOFFSETTO:+0200
TZNAME:CEST
DTSTART:20270328T010000
END:DAYLIGHT
BEGIN:STANDARD
TZOFFSETFROM:+0200
TZOFFSETTO:+0100
TZNAME:CET
DTSTART:20271031T010000
END:STANDARD
END:VTIMEZONE
BEGIN:VEVENT
DTSTART;TZID=Europe/Oslo:20260308T143000
DTEND;TZID=Europe/Oslo:20260308T170000
DTSTAMP:20260421T071851
CREATED:20260224T202858Z
LAST-MODIFIED:20260224T203156Z
UID:10275-1772980200-1772989200@nksoslofylke.no
SUMMARY:Sanitetskvinnene går i 8.mars-tog - Oslo
DESCRIPTION:Sanitetskvinnene Oslo fylke og lokalforeningene går i 8.-marstoget kl 16.00. Møt opp kl 14.30 på Youngs! \nSanitetskvinnene i Oslo går i 8. mars-toget på Youngstorget kl 16.00 med følgende paroler: \n\nBedre barselomsorg er god folkehelse\nTa kroppen vår på alvor – mer penger til kvinnehelseforskning!\n\nBli med\, og ta med en venninne\, datter\, søster\, nabo eller kollega. \nVi møtes på Youngs\, på Youngstorget kl 14.30\, og har med plakater og bannere.
URL:https://nksoslofylke.no/kalender/sanitetskvinnene-gar-i-8-mars-tog-oslo/
LOCATION:Youngs\, Youngsgate 3\, Youngsgate 3\, Oslo\, 0181\, Norway
ATTACH;FMTTYPE=image/jpeg:https://nksoslofylke.no/wp-content/uploads/2025/11/IMG_5032-scaled.jpg
ORGANIZER;CN="Sanitetskvinnene Oslo fylke":MAILTO:nksoslofylke@outlook.com
END:VEVENT
END:VCALENDAR