BEGIN:VCALENDAR
VERSION:2.0
PRODID:-//NKS Oslo fylke - ECPv6.15.12//NONSGML v1.0//EN
CALSCALE:GREGORIAN
METHOD:PUBLISH
X-WR-CALNAME:NKS Oslo fylke
X-ORIGINAL-URL:https://nksoslofylke.no
X-WR-CALDESC:Arrangement for NKS Oslo fylke
REFRESH-INTERVAL;VALUE=DURATION:PT1H
X-Robots-Tag:noindex
X-PUBLISHED-TTL:PT1H
BEGIN:VTIMEZONE
TZID:Europe/Oslo
BEGIN:DAYLIGHT
TZOFFSETFROM:+0100
TZOFFSETTO:+0200
TZNAME:CEST
DTSTART:20250330T010000
END:DAYLIGHT
BEGIN:STANDARD
TZOFFSETFROM:+0200
TZOFFSETTO:+0100
TZNAME:CET
DTSTART:20251026T010000
END:STANDARD
BEGIN:DAYLIGHT
TZOFFSETFROM:+0100
TZOFFSETTO:+0200
TZNAME:CEST
DTSTART:20260329T010000
END:DAYLIGHT
BEGIN:STANDARD
TZOFFSETFROM:+0200
TZOFFSETTO:+0100
TZNAME:CET
DTSTART:20261025T010000
END:STANDARD
BEGIN:DAYLIGHT
TZOFFSETFROM:+0100
TZOFFSETTO:+0200
TZNAME:CEST
DTSTART:20270328T010000
END:DAYLIGHT
BEGIN:STANDARD
TZOFFSETFROM:+0200
TZOFFSETTO:+0100
TZNAME:CET
DTSTART:20271031T010000
END:STANDARD
END:VTIMEZONE
BEGIN:VEVENT
DTSTART;TZID=Europe/Oslo:20260416T183000
DTEND;TZID=Europe/Oslo:20260416T183000
DTSTAMP:20260420T191339
CREATED:20260409T091126Z
LAST-MODIFIED:20260409T091700Z
UID:10365-1776364200-1776364200@nksoslofylke.no
SUMMARY:Østensjø sanitetsforening inviterer til temamøte\, torsdag 16. april kl 18.30
DESCRIPTION:Østensjø sanitetsforening inviterer til temamøte\, torsdag 16. april kl 18.30. \nSted: Manglerud gård\, Byggveien 15\, Oslo \nTema: Smarte svar og digitale feberdrømmer: Slik gjør du KI til din (litt lunefulle) bestevenn ved Hans Olav Nyborg. \nMøtet er åpent for alle\, medlem eller ikke. \n\nGratis inngang\nLotteri\nLett servering\n\nHjertelig velkommen!
URL:https://nksoslofylke.no/kalender/ostensjo-sanitetsforening-inviterer-til-temamote-torsdag-16-april-kl-18-30/
LOCATION:Manglerud Gård Treffsenter\, Byggveien 15\, Oslo\, 0680\, Norway
ATTACH;FMTTYPE=image/png:https://nksoslofylke.no/wp-content/uploads/2026/04/Bilde1.png
END:VEVENT
END:VCALENDAR