BEGIN:VCALENDAR
VERSION:2.0
PRODID:-//NKS Oslo fylke - ECPv6.15.12//NONSGML v1.0//EN
CALSCALE:GREGORIAN
METHOD:PUBLISH
X-WR-CALNAME:NKS Oslo fylke
X-ORIGINAL-URL:https://nksoslofylke.no
X-WR-CALDESC:Arrangement for NKS Oslo fylke
REFRESH-INTERVAL;VALUE=DURATION:PT1H
X-Robots-Tag:noindex
X-PUBLISHED-TTL:PT1H
BEGIN:VTIMEZONE
TZID:Europe/Oslo
BEGIN:DAYLIGHT
TZOFFSETFROM:+0100
TZOFFSETTO:+0200
TZNAME:CEST
DTSTART:20250330T010000
END:DAYLIGHT
BEGIN:STANDARD
TZOFFSETFROM:+0200
TZOFFSETTO:+0100
TZNAME:CET
DTSTART:20251026T010000
END:STANDARD
BEGIN:DAYLIGHT
TZOFFSETFROM:+0100
TZOFFSETTO:+0200
TZNAME:CEST
DTSTART:20260329T010000
END:DAYLIGHT
BEGIN:STANDARD
TZOFFSETFROM:+0200
TZOFFSETTO:+0100
TZNAME:CET
DTSTART:20261025T010000
END:STANDARD
BEGIN:DAYLIGHT
TZOFFSETFROM:+0100
TZOFFSETTO:+0200
TZNAME:CEST
DTSTART:20270328T010000
END:DAYLIGHT
BEGIN:STANDARD
TZOFFSETFROM:+0200
TZOFFSETTO:+0100
TZNAME:CET
DTSTART:20271031T010000
END:STANDARD
END:VTIMEZONE
BEGIN:VEVENT
DTSTART;TZID=Europe/Oslo:20261011T130000
DTEND;TZID=Europe/Oslo:20261011T150000
DTSTAMP:20260423T105400
CREATED:20260107T142554Z
LAST-MODIFIED:20260109T204014Z
UID:9934-1791723600-1791730800@nksoslofylke.no
SUMMARY:Høstkafe med bruktmarked i Høybråten sanitetsforening 11. oktober kl 13.00
DESCRIPTION:Høybråten sanitetsforening arrangerer høstkafe med bruktmarked\, søndag 11. oktober kl 13.00 – 15.00 i Bergtunveien 7 b. \nVi selger kaffe og vafler og kaker. Medlemmer og andre selger brukte klær og leker. Like artig som loppemarked! \nVelkommen til «Huset vårt»!
URL:https://nksoslofylke.no/kalender/hostkafe-med-bruktmarked-i-hoybraten-sanitetsforening-11-oktober-kl-13-00/
LOCATION:Bergtunveien 7 b\, Oslo\, 1087\, Norway
ATTACH;FMTTYPE=image/webp:https://nksoslofylke.no/wp-content/uploads/2026/01/Bruktmarked.webp
END:VEVENT
END:VCALENDAR