BEGIN:VCALENDAR
VERSION:2.0
PRODID:-//NKS Oslo fylke - ECPv6.15.12//NONSGML v1.0//EN
CALSCALE:GREGORIAN
METHOD:PUBLISH
X-ORIGINAL-URL:https://nksoslofylke.no
X-WR-CALDESC:Arrangement for NKS Oslo fylke
REFRESH-INTERVAL;VALUE=DURATION:PT1H
X-Robots-Tag:noindex
X-PUBLISHED-TTL:PT1H
BEGIN:VTIMEZONE
TZID:Europe/Oslo
BEGIN:DAYLIGHT
TZOFFSETFROM:+0100
TZOFFSETTO:+0200
TZNAME:CEST
DTSTART:20250330T010000
END:DAYLIGHT
BEGIN:STANDARD
TZOFFSETFROM:+0200
TZOFFSETTO:+0100
TZNAME:CET
DTSTART:20251026T010000
END:STANDARD
BEGIN:DAYLIGHT
TZOFFSETFROM:+0100
TZOFFSETTO:+0200
TZNAME:CEST
DTSTART:20260329T010000
END:DAYLIGHT
BEGIN:STANDARD
TZOFFSETFROM:+0200
TZOFFSETTO:+0100
TZNAME:CET
DTSTART:20261025T010000
END:STANDARD
BEGIN:DAYLIGHT
TZOFFSETFROM:+0100
TZOFFSETTO:+0200
TZNAME:CEST
DTSTART:20270328T010000
END:DAYLIGHT
BEGIN:STANDARD
TZOFFSETFROM:+0200
TZOFFSETTO:+0100
TZNAME:CET
DTSTART:20271031T010000
END:STANDARD
END:VTIMEZONE
BEGIN:VEVENT
DTSTART;TZID=Europe/Oslo:20260506T190000
DTEND;TZID=Europe/Oslo:20260506T190000
DTSTAMP:20260421T010627
CREATED:20260107T140541Z
LAST-MODIFIED:20260107T153313Z
UID:9925-1778094000-1778094000@nksoslofylke.no
SUMMARY:Åpent møte i Høybråten sanitetsforening 6. mai kl 19.00 om "Jakten på Norges kommuner"
DESCRIPTION:Høybråten sanitetsforening inviterer til åpent møte onsdag 6. mai kl. 19.00 i Bergtunveien 7 b. \nMay Lilly Colban holder et foredrag om «Jakten på Norges kommuner». \nServering av kaffe/kake. Ta med gevinst. Velkommen!
URL:https://nksoslofylke.no/kalender/apent-mote-i-hoybraten-sanitetsforening-6-mai-kl-19-00-om-jakten-pa-norges-kommuner/
LOCATION:Bergtunveien 7 b\, Oslo\, 1087\, Norway
ATTACH;FMTTYPE=image/jpeg:https://nksoslofylke.no/wp-content/uploads/2026/01/Kommuner.jpg
END:VEVENT
BEGIN:VEVENT
DTSTART;TZID=Europe/Oslo:20260527T190000
DTEND;TZID=Europe/Oslo:20260527T203000
DTSTAMP:20260421T010627
CREATED:20260304T220340Z
LAST-MODIFIED:20260304T220340Z
UID:10301-1779908400-1779913800@nksoslofylke.no
SUMMARY:Bokklubb i Gamle Oslo sanitetsforening\, 27. mai kl 19.00 - tema: "Kvinner\, sinne og solidaritet"
DESCRIPTION:Gamle Oslo sanitetsforenings Bokklubb inviterer til bokklubb våren 2026:samlinger våren 26: \n(Onsdag 25.mars)\n(Onsdag 29.april)\nOnsdag 27.mai \nNår: Kl.19-20:30 \nSted: Interkulturelt museum\,Tøyenbekken 5\, Grønland \nTema er «Kvinner\, sinne og solidaritet» i sesong 5 av vår feministiske bokklubb; Gamle Oslo sanitetsforenings Bokklubb. \nVi leser boken: \n \n«Ro deg ned!»\, av forfatter Solveig Mork Holmøyvik. Deichman har 17 ledige bøker til utlån p.dd. \nMen som alltid – i vår lavterskel bokklubb trenger du ikke ha lest for å delta. \nSe også FB: \nhttps://www.facebook.com/groups/6984477164972847 \nhttps://www.facebook.com/share/1AZcKETp6P/
URL:https://nksoslofylke.no/kalender/bokklubb-i-gamle-oslo-sanitetsforening-27-mai-kl-19-00-tema-kvinner-sinne-og-solidaritet/
LOCATION:Interkulturelt Museum\, Tøyenbekken 5\, Oslo\, 0188\, Norway
ATTACH;FMTTYPE=image/jpeg:https://nksoslofylke.no/wp-content/uploads/2026/03/Bokklubb.jpg
END:VEVENT
BEGIN:VEVENT
DTSTART;TZID=Europe/Oslo:20260602T180000
DTEND;TZID=Europe/Oslo:20260602T180000
DTSTAMP:20260421T010627
CREATED:20260111T194554Z
LAST-MODIFIED:20260111T194554Z
UID:10022-1780423200-1780423200@nksoslofylke.no
SUMMARY:Kløvertur om Hans Nielsen Hauge langs Akerselva\, 2. juni kl 18.00 - Grefsen\, Kjelsås og omegn sanitetsforening
DESCRIPTION:Grefsen\, Kjelsås og omegn sanitetsforening inviterer til Kløvertur 2. juni kl 18.00: Hans Nielsen Hauge og alt hva han fikk til langs Akerselva.  \nEtter turen til Bakkehaugen og Hauges bosted i fjor\, kom det fram et ønske å se og høre mer om alt som ble iverksatt av denne ivrige mannen og hans haugianere. Erik Hagfors fra Historielaget forteller. \nVi møtes ved hovedinngangen til Nydalen videregående skole\, Nydalsveien 30 C. \nTA MED KOPP! \nTuren er for alle. Velkommen! \nTuren er et samarbeid mellom Kjelsås idrettslag\, historielagene på Grefsen/Kjelsås/Nydalen og Tåsen/Nordberg/Ullevål og Grefsen og Kjelsås sanitetsforening.
URL:https://nksoslofylke.no/kalender/klovertur-om-hans-nielsen-hauge-langs-akerselva-2-juni-kl-18-00-grefsen-kjelsas-og-omegn-sanitetsforening/
LOCATION:Nydalen videregående skole\, Nydalsveien 30 C\, Nydalen videregående skole\, Nydalsveien 30 C\, Oslo\, 0484\, Norway
ATTACH;FMTTYPE=image/jpeg:https://nksoslofylke.no/wp-content/uploads/2026/01/Hans-N-Hauge.jpg
END:VEVENT
BEGIN:VEVENT
DTSTART;TZID=Europe/Oslo:20260901T180000
DTEND;TZID=Europe/Oslo:20260901T180000
DTSTAMP:20260421T010627
CREATED:20260111T195724Z
LAST-MODIFIED:20260111T195724Z
UID:10026-1788285600-1788285600@nksoslofylke.no
SUMMARY:Kløvertur til husmannsplassen Holstein og området rundt\, 1. september kl 18.00 - Grefsen\, Kjelsås og omegn sanitetsforening
DESCRIPTION:Grefsen\, Kjelsås og omegn sanitetsforening inviterer til Kløvertur 1. september.  \nDen 1. september kl. 18.00 går turen til Holstein\, husmannsplassen og området rundt. Vi starter fra Holstein T-bane stasjon\, og Historielaget guider oss på en fin tur med mye spennende historie. Vi avslutter med kaffe. \nTA MED KOPP! \nTuren er for alle. Velkommen! \nTuren er et samarbeid mellom Kjelsås idrettslag\, historielagene på Grefsen/Kjelsås/Nydalen og Tåsen/Nordberg/Ullevål og Grefsen og Kjelsås sanitetsforening.
URL:https://nksoslofylke.no/kalender/klovertur-til-husmannsplassen-holstein-og-omradet-rundt-1-september-kl-18-00-grefsen-kjelsas-og-omegn-sanitetsforening/
LOCATION:Holstein T-banestasjon\, Holstein T-banestasjon\, Oslo\, 0860\, Norway
ATTACH;FMTTYPE=image/jpeg:https://nksoslofylke.no/wp-content/uploads/2026/01/Oslo_Holsteinveien-1.jpg
END:VEVENT
BEGIN:VEVENT
DTSTART;TZID=Europe/Oslo:20261009T190000
DTEND;TZID=Europe/Oslo:20261009T190000
DTSTAMP:20260421T010627
CREATED:20260107T141529Z
LAST-MODIFIED:20260107T141529Z
UID:9931-1791572400-1791572400@nksoslofylke.no
SUMMARY:"Strikk og Skravl" i Høybråten sanitetsforening 9. oktober kl 19.00
DESCRIPTION:Høybråten sanitetsforening inviterer til «Strikk og Skravl»\, fredag 9. oktober kl 19.00. Åpent for alle! \nKom med eller uten håndarbeid. Vi holder kaffe og noe snacks. Ta gjerne med noe godt å drikke- vi lar skravla gå – har du en liten gevinst til ett lite lotteri er det flott! \nVelkommen til Bergtunveien 7 b på Høybråten!
URL:https://nksoslofylke.no/kalender/strikk-og-skravl-i-hoybraten-sanitetsforening-9-oktober-kl-19-00/
LOCATION:Bergtunveien 7 b\, Oslo\, 1087\, Norway
ATTACH;FMTTYPE=image/jpeg:https://nksoslofylke.no/wp-content/uploads/2026/01/Strikk-skravl.jpg
END:VEVENT
BEGIN:VEVENT
DTSTART;TZID=Europe/Oslo:20261011T130000
DTEND;TZID=Europe/Oslo:20261011T150000
DTSTAMP:20260421T010627
CREATED:20260107T142554Z
LAST-MODIFIED:20260109T204014Z
UID:9934-1791723600-1791730800@nksoslofylke.no
SUMMARY:Høstkafe med bruktmarked i Høybråten sanitetsforening 11. oktober kl 13.00
DESCRIPTION:Høybråten sanitetsforening arrangerer høstkafe med bruktmarked\, søndag 11. oktober kl 13.00 – 15.00 i Bergtunveien 7 b. \nVi selger kaffe og vafler og kaker. Medlemmer og andre selger brukte klær og leker. Like artig som loppemarked! \nVelkommen til «Huset vårt»!
URL:https://nksoslofylke.no/kalender/hostkafe-med-bruktmarked-i-hoybraten-sanitetsforening-11-oktober-kl-13-00/
LOCATION:Bergtunveien 7 b\, Oslo\, 1087\, Norway
ATTACH;FMTTYPE=image/webp:https://nksoslofylke.no/wp-content/uploads/2026/01/Bruktmarked.webp
END:VEVENT
BEGIN:VEVENT
DTSTART;TZID=Europe/Oslo:20261107T110000
DTEND;TZID=Europe/Oslo:20261107T170000
DTSTAMP:20260421T010627
CREATED:20260107T144257Z
LAST-MODIFIED:20260107T144257Z
UID:9944-1794049200-1794070800@nksoslofylke.no
SUMMARY:Lionslotteri på Høybråten skole\, 7. og 8. november
DESCRIPTION:Høybråten sanitetsforening inviterer til Lionslotteri i helgen 7. og 8. november kl. 11.00 – 17.00 på Høybråten Skole i Bergtunveien 9.
URL:https://nksoslofylke.no/kalender/lionslotteri-pa-hoybraten-skole-7-og-8-november/
LOCATION:Bergtunveien 9\, Oslo\, 1087\, Norway
ATTACH;FMTTYPE=image/jpeg:https://nksoslofylke.no/wp-content/uploads/2026/01/Lionslotteri.jpg
END:VEVENT
BEGIN:VEVENT
DTSTART;TZID=Europe/Oslo:20261113T000000
DTEND;TZID=Europe/Oslo:20261113T000000
DTSTAMP:20260421T010627
CREATED:20260107T144837Z
LAST-MODIFIED:20260107T144837Z
UID:9948-1794528000-1794528000@nksoslofylke.no
SUMMARY:Julebasar med gammeldags tombola i Høybråten sanitetsforening\, 13. - 15. november
DESCRIPTION:Høybråten sanitetsforening arrangerer JULEBASAR i helgen 13.\, 14. og 15. november. \nVi selger lodd\, hjemmelagde ting\, kaker og kaffe. Gammeldags tombola. \nVelkommen til Bergstuveien 7 b på Høybråten!
URL:https://nksoslofylke.no/kalender/julebasar-med-gammeldags-tombola-i-hoybraten-sanitetsforening-13-15-november/
LOCATION:Bergtunveien 7 b\, Oslo\, 1087\, Norway
ATTACH;FMTTYPE=image/jpeg:https://nksoslofylke.no/wp-content/uploads/2026/01/Basar.jpg
END:VEVENT
BEGIN:VEVENT
DTSTART;TZID=Europe/Oslo:20261127T080000
DTEND;TZID=Europe/Oslo:20261127T170000
DTSTAMP:20260421T010627
CREATED:20260107T143139Z
LAST-MODIFIED:20260107T153955Z
UID:9937-1795766400-1795798800@nksoslofylke.no
SUMMARY:"Strikk og Skravl" i Høybråten sanitetsforening 27. november kl 19.00
DESCRIPTION:Høybråten sanitetsforening inviterer til «Strikk og skravl» 27. november kl 19.00. Åpent for alle! \nKom med eller uten håndarbeid. Vi holder kaffe og noe snacks. Ta gjerne med noe godt å drikke- vi lar skravla gå – har du en liten gevinst til et lite lotteri\, er det flott! \nVelkommen til Bergtunveien 7 b på Høybråten.
URL:https://nksoslofylke.no/kalender/strikk-og-skravl-i-hoybraten-sanitetsforening-27-november-kl-19-00/
LOCATION:Bergtunveien 7 b\, Oslo\, 1087\, Norway
ATTACH;FMTTYPE=image/jpeg:https://nksoslofylke.no/wp-content/uploads/2026/01/Strikkskravl.jpg
END:VEVENT
BEGIN:VEVENT
DTSTART;TZID=Europe/Oslo:20261129T143000
DTEND;TZID=Europe/Oslo:20261129T163000
DTSTAMP:20260421T010627
CREATED:20260107T143609Z
LAST-MODIFIED:20260107T153753Z
UID:9941-1795962600-1795969800@nksoslofylke.no
SUMMARY:Adventskafe 29. november kl 14.30 i Høybråten sanitetsforening
DESCRIPTION:Høybråten sanitetsforening inviterer til Adventskafe\, søndag 29. november kl 14.30 – 16.30. \nHer blir det grøtsalg\, kaffe\, kaker\, julesanger og salg av julesaker \, og verksted for barna! \nVelkommen til Bergtunveien 7 b på Høybråten!
URL:https://nksoslofylke.no/kalender/adventskafe-i-hoybraten-sanitetsforening-29-november-kl-14-30/
LOCATION:Bergtunveien 7 b\, Oslo\, 1087\, Norway
ATTACH;FMTTYPE=image/jpeg:https://nksoslofylke.no/wp-content/uploads/2026/01/Risengrynsgrot.jpg
END:VEVENT
END:VCALENDAR