BEGIN:VCALENDAR
VERSION:2.0
PRODID:-//NKS Oslo fylke - ECPv6.15.12//NONSGML v1.0//EN
CALSCALE:GREGORIAN
METHOD:PUBLISH
X-ORIGINAL-URL:https://nksoslofylke.no
X-WR-CALDESC:Arrangement for NKS Oslo fylke
REFRESH-INTERVAL;VALUE=DURATION:PT1H
X-Robots-Tag:noindex
X-PUBLISHED-TTL:PT1H
BEGIN:VTIMEZONE
TZID:Europe/Oslo
BEGIN:DAYLIGHT
TZOFFSETFROM:+0100
TZOFFSETTO:+0200
TZNAME:CEST
DTSTART:20160327T010000
END:DAYLIGHT
BEGIN:STANDARD
TZOFFSETFROM:+0200
TZOFFSETTO:+0100
TZNAME:CET
DTSTART:20161030T010000
END:STANDARD
BEGIN:DAYLIGHT
TZOFFSETFROM:+0100
TZOFFSETTO:+0200
TZNAME:CEST
DTSTART:20170326T010000
END:DAYLIGHT
BEGIN:STANDARD
TZOFFSETFROM:+0200
TZOFFSETTO:+0100
TZNAME:CET
DTSTART:20171029T010000
END:STANDARD
BEGIN:DAYLIGHT
TZOFFSETFROM:+0100
TZOFFSETTO:+0200
TZNAME:CEST
DTSTART:20180325T010000
END:DAYLIGHT
BEGIN:STANDARD
TZOFFSETFROM:+0200
TZOFFSETTO:+0100
TZNAME:CET
DTSTART:20181028T010000
END:STANDARD
BEGIN:DAYLIGHT
TZOFFSETFROM:+0100
TZOFFSETTO:+0200
TZNAME:CEST
DTSTART:20190331T010000
END:DAYLIGHT
BEGIN:STANDARD
TZOFFSETFROM:+0200
TZOFFSETTO:+0100
TZNAME:CET
DTSTART:20191027T010000
END:STANDARD
BEGIN:DAYLIGHT
TZOFFSETFROM:+0100
TZOFFSETTO:+0200
TZNAME:CEST
DTSTART:20200329T010000
END:DAYLIGHT
BEGIN:STANDARD
TZOFFSETFROM:+0200
TZOFFSETTO:+0100
TZNAME:CET
DTSTART:20201025T010000
END:STANDARD
BEGIN:DAYLIGHT
TZOFFSETFROM:+0100
TZOFFSETTO:+0200
TZNAME:CEST
DTSTART:20210328T010000
END:DAYLIGHT
BEGIN:STANDARD
TZOFFSETFROM:+0200
TZOFFSETTO:+0100
TZNAME:CET
DTSTART:20211031T010000
END:STANDARD
BEGIN:DAYLIGHT
TZOFFSETFROM:+0100
TZOFFSETTO:+0200
TZNAME:CEST
DTSTART:20220327T010000
END:DAYLIGHT
BEGIN:STANDARD
TZOFFSETFROM:+0200
TZOFFSETTO:+0100
TZNAME:CET
DTSTART:20221030T010000
END:STANDARD
BEGIN:DAYLIGHT
TZOFFSETFROM:+0100
TZOFFSETTO:+0200
TZNAME:CEST
DTSTART:20230326T010000
END:DAYLIGHT
BEGIN:STANDARD
TZOFFSETFROM:+0200
TZOFFSETTO:+0100
TZNAME:CET
DTSTART:20231029T010000
END:STANDARD
BEGIN:DAYLIGHT
TZOFFSETFROM:+0100
TZOFFSETTO:+0200
TZNAME:CEST
DTSTART:20240331T010000
END:DAYLIGHT
BEGIN:STANDARD
TZOFFSETFROM:+0200
TZOFFSETTO:+0100
TZNAME:CET
DTSTART:20241027T010000
END:STANDARD
BEGIN:DAYLIGHT
TZOFFSETFROM:+0100
TZOFFSETTO:+0200
TZNAME:CEST
DTSTART:20250330T010000
END:DAYLIGHT
BEGIN:STANDARD
TZOFFSETFROM:+0200
TZOFFSETTO:+0100
TZNAME:CET
DTSTART:20251026T010000
END:STANDARD
BEGIN:DAYLIGHT
TZOFFSETFROM:+0100
TZOFFSETTO:+0200
TZNAME:CEST
DTSTART:20260329T010000
END:DAYLIGHT
BEGIN:STANDARD
TZOFFSETFROM:+0200
TZOFFSETTO:+0100
TZNAME:CET
DTSTART:20261025T010000
END:STANDARD
END:VTIMEZONE
BEGIN:VEVENT
DTSTART;TZID=Europe/Oslo:20251202T120000
DTEND;TZID=Europe/Oslo:20251202T140000
DTSTAMP:20260425T171415
CREATED:20251128T104536Z
LAST-MODIFIED:20251128T104622Z
UID:9755-1764676800-1764684000@nksoslofylke.no
SUMMARY:Strikk for prematur
DESCRIPTION:Strikk for prematur\nStrikk for premature er en varm og inkluderende gruppe for frivillige som strikker små ullplagg og pledd til babyer innlagt på intensivavdelingen ved Ullevål sykehus. Her finner du en hyggelig møteplass med rom for alle\, enten du er nybegynner eller erfaren strikker. Oslo Sanitetsforening stiller med garn og enkel servering\, så det er bare å ta med strikkelysten. \nPraktisk informasjon: https://osf.no/kalender/strikk-for-premature-20251202-7832
URL:https://nksoslofylke.no/kalender/strikk-for-prematur/
LOCATION:Solskinnsveien 12\, Solskinnsveien 12
ATTACH;FMTTYPE=image/webp:https://nksoslofylke.no/wp-content/uploads/2025/11/7fb76133bcfb2fd6a08dfe918145b04d2799f320-5142x3428-1.webp
END:VEVENT
BEGIN:VEVENT
DTSTART;TZID=Europe/Oslo:20251127T180000
DTEND;TZID=Europe/Oslo:20251127T200000
DTSTAMP:20260425T171415
CREATED:20251127T105004Z
LAST-MODIFIED:20251127T112543Z
UID:9660-1764266400-1764273600@nksoslofylke.no
SUMMARY:Åpent møte «Kvinner i fokus. Når kontroll blir vold»
DESCRIPTION:27. november kl 18.00 – 20.00 Åpent møte «Kvinner i fokus. Når kontroll blir vold»\n\n\n Kvinnehelsehuset og Oslo Sanitetsforening arrangerer åpent møte på Kvinnehelsehuset «Kvinner i fokus. Når kontroll blir vold». Påmelding. \n\n\nhttps://osf.no/kalender/kvinner-i-fokus-nar-kontroll-blir-vold-20251127-f822
URL:https://nksoslofylke.no/kalender/apent-mote-kvinner-i-fokus-nar-kontroll-blir-vold/
LOCATION:Kvinnehelsehus Oslo\, Hagegata 32\, Oslo\, 0653
ATTACH;FMTTYPE=image/webp:https://nksoslofylke.no/wp-content/uploads/2025/11/e014836a12ab7fbe47c96e4dcd54b90ffdcbf172-3000x3000-1.webp
END:VEVENT
BEGIN:VEVENT
DTSTART;TZID=Europe/Oslo:20251127T130000
DTEND;TZID=Europe/Oslo:20251127T143000
DTSTAMP:20260425T171415
CREATED:20251120T121517Z
LAST-MODIFIED:20251120T121517Z
UID:3738-1764248400-1764253800@nksoslofylke.no
SUMMARY:Hva gjør du ved mistanke om vold i nære relasjoner?
DESCRIPTION:27. november kl 13.00 – 14.30 Åpent møte «Hva gjør du ved mistanke om vold i nære relasjoner?» \n\n\n  \n\n\nKvinnehelsehuset og Oslo Sanitetsforening arrangerer åpent møte på Kvinnehelsehuset «Hva gjør du ved mistanke om vold i nære relasjoner?» Påmelding. \n\n\n\n\n\nhttps://osf.no/kalender/helsekafe-hva-gjor-du-ved-mistanke-om-vold-i-naere-relasjoner-20251127-6d98
URL:https://nksoslofylke.no/kalender/hva-gjor-du-ved-mistanke-om-vold-i-naere-relasjoner/
LOCATION:Kvinnehelsehuset\, Hagegata 32\, Oslo\, Norway
ATTACH;FMTTYPE=image/jpeg:https://nksoslofylke.no/wp-content/uploads/2025/11/topsphere-media-7CdmBaniBIE-unsplash-scaled.jpg
END:VEVENT
BEGIN:VEVENT
DTSTART;TZID=Europe/Oslo:20251125T180000
DTEND;TZID=Europe/Oslo:20251125T230000
DTSTAMP:20260425T171415
CREATED:20251118T195426Z
LAST-MODIFIED:20251118T195703Z
UID:3704-1764093600-1764111600@nksoslofylke.no
SUMMARY:Åpent møte «Status for kvinnehelse»
DESCRIPTION:Blindern og Vinderen Sanitetsforening arrangerer åpent møte «Status for kvinnehelse» med Elisabeth Swärd\, som er spesialrådgiver innen kvinnehelse. Velkommen til Villa Ly i Tennisveien 2. Påmelding vipps #12753 kr 50 for medlemmer av Blindern og Vinderen Sanitetsforening og kr 100 for ikke medlemmer.
URL:https://nksoslofylke.no/kalender/apent-mote-status-for-kvinnehelse/
LOCATION:Villa Ly i Tennisveien 2\, Blindern og Vinderen Sanitetsforening\, Norway
ATTACH;FMTTYPE=image/jpeg:https://nksoslofylke.no/wp-content/uploads/2017/07/Elisabeth_T_Swärd_foto_Kai_Hovden.jpg
END:VEVENT
BEGIN:VEVENT
DTSTART;TZID=Europe/Oslo:20251125T150000
DTEND;TZID=Europe/Oslo:20251125T163000
DTSTAMP:20260425T171415
CREATED:20251118T194923Z
LAST-MODIFIED:20251125T130114Z
UID:3700-1764082800-1764088200@nksoslofylke.no
SUMMARY:Rød knapp – Stopp vold mot kvinner
DESCRIPTION:Markering på Eidsvolls plass  25. november kl 15.00 – 16.30\n\n25. november er den internasjonale dagen for avskaffelse av vold mot kvinner. Vold mot kvinner er et alvorlig og utbredt samfunnsproblem. Seksuell trakassering\, vold i krig\, og vold i nære relasjoner er en virkelighet for mange kvinner og jenter i dag. I år setter vi søkelyset på DIGITAL VOLD. Sanitetskvinnene Oslo fylke og alle lokalforeningene i Oslo markerer dagen ved å samles først på Jernbanetorget om morgenen og på Eidsvollsplass utenfor Stortinget om ettermiddagen for å dele ut røde knapper og flyers. Markeringen støttes av våre lokalforeninger: Blindern og Vinderen\, Bygdøy\, Frognerparken\, Gamle Oslo\, Groruddalen\, Grefsen/Kjelsås og omegn\, Høybråten\, Oslo og Østensjø.
URL:https://nksoslofylke.no/kalender/rod-knapp-stopp-vold-mot-kvinner-2/
LOCATION:Eidsvolds plass\, Eidsvolls plass\, Oslo\, Oslo\, Norway
ATTACH;FMTTYPE=image/png:https://nksoslofylke.no/wp-content/uploads/2017/07/Rodknapp_bilde.png
END:VEVENT
BEGIN:VEVENT
DTSTART;TZID=Europe/Oslo:20251125T073000
DTEND;TZID=Europe/Oslo:20251125T093000
DTSTAMP:20260425T171415
CREATED:20251118T194140Z
LAST-MODIFIED:20251124T122508Z
UID:3696-1764055800-1764063000@nksoslofylke.no
SUMMARY:Rød knapp - Stopp vold mot kvinner
DESCRIPTION:25. november er den internasjonale dagen for avskaffelse av vold mot kvinner. Vold mot kvinner er et alvorlig og utbredt samfunnsproblem. Seksuell trakassering\, vold i krig\, og vold i nære relasjoner er en virkelighet for mange kvinner og jenter i dag. I år setter vi søkelyset på DIGITAL VOLD. Sanitetskvinnene Oslo fylke og alle lokalforeningene i Oslo markerer dagen ved å samles først på Jernbanetorget om morgenen og på Eidsvollsplass utenfor Stortinget om ettermiddagen for å dele ut røde knapper og flyers. Markeringen støttes av våre lokalforeninger: Blindern og Vinderen\, Bygdøy\, Frognerparken\, Gamle Oslo\, Groruddalen\, Grefsen/Kjelsås og omegn\, Høybråten\, Oslo og Østensjø.
URL:https://nksoslofylke.no/kalender/rod-knapp-stopp-vold-mot-kvinner/
LOCATION:Jernbanetorget\, Oslo\, Norway
ATTACH;FMTTYPE=image/jpeg:https://nksoslofylke.no/wp-content/uploads/2025/11/IMG_9372-scaled.jpg
ORGANIZER;CN="Sanitetskvinnene Oslo fylke":MAILTO:nksoslofylke@outlook.com
END:VEVENT
BEGIN:VEVENT
DTSTART;TZID=Europe/Oslo:20170917T100000
DTEND;TZID=Europe/Oslo:20170917T100000
DTSTAMP:20260425T171415
CREATED:20170817T140003Z
LAST-MODIFIED:20251118T142400Z
UID:609-1505642400-1505642400@nksoslofylke.no
SUMMARY:Ja betyr ja!
DESCRIPTION:Aksjonen som går mot russen er i gang. Ja betyr ja!
URL:https://nksoslofylke.no/kalender/ja-betyr-ja/
ATTACH;FMTTYPE=image/jpeg:https://nksoslofylke.no/wp-content/uploads/2018/01/13254377_234684623566479_1742370106919614647_n.jpg
END:VEVENT
BEGIN:VEVENT
DTSTART;TZID=Europe/Oslo:20170826T020000
DTEND;TZID=Europe/Oslo:20170826T020000
DTSTAMP:20260425T171415
CREATED:20170824T143442Z
LAST-MODIFIED:20170824T143718Z
UID:585-1503712800-1503712800@nksoslofylke.no
SUMMARY:Salg av maiblomster
DESCRIPTION:
URL:https://nksoslofylke.no/kalender/strikkekafe/
END:VEVENT
BEGIN:VEVENT
DTSTART;TZID=Europe/Oslo:20170819T100000
DTEND;TZID=Europe/Oslo:20170819T190000
DTSTAMP:20260425T171415
CREATED:20170817T131401Z
LAST-MODIFIED:20170817T132929Z
UID:586-1503136800-1503169200@nksoslofylke.no
SUMMARY:Strikkekafe
DESCRIPTION:
URL:https://nksoslofylke.no/kalender/strikekkafe/
END:VEVENT
BEGIN:VEVENT
DTSTART;VALUE=DATE:20170728
DTEND;VALUE=DATE:20170730
DTSTAMP:20260425T171415
CREATED:20170727T113244Z
LAST-MODIFIED:20170727T113411Z
UID:364-1501207200-1501293599@nksoslofylke.no
SUMMARY:Lansering ny webside
DESCRIPTION:Ny webside er ferdig!
URL:https://nksoslofylke.no/kalender/lansering-ny-webside/
LOCATION:NKS fylke\, Bergtunveien 7B\, Oslo\, Høybråten\, Norge
ATTACH;FMTTYPE=image/png:https://nksoslofylke.no/wp-content/uploads/2017/07/Skissefav.png
END:VEVENT
END:VCALENDAR