BEGIN:VCALENDAR
VERSION:2.0
PRODID:-//NKS Oslo fylke - ECPv6.15.12//NONSGML v1.0//EN
CALSCALE:GREGORIAN
METHOD:PUBLISH
X-ORIGINAL-URL:https://nksoslofylke.no
X-WR-CALDESC:Arrangement for NKS Oslo fylke
REFRESH-INTERVAL;VALUE=DURATION:PT1H
X-Robots-Tag:noindex
X-PUBLISHED-TTL:PT1H
BEGIN:VTIMEZONE
TZID:Europe/Oslo
BEGIN:DAYLIGHT
TZOFFSETFROM:+0100
TZOFFSETTO:+0200
TZNAME:CEST
DTSTART:20240331T010000
END:DAYLIGHT
BEGIN:STANDARD
TZOFFSETFROM:+0200
TZOFFSETTO:+0100
TZNAME:CET
DTSTART:20241027T010000
END:STANDARD
BEGIN:DAYLIGHT
TZOFFSETFROM:+0100
TZOFFSETTO:+0200
TZNAME:CEST
DTSTART:20250330T010000
END:DAYLIGHT
BEGIN:STANDARD
TZOFFSETFROM:+0200
TZOFFSETTO:+0100
TZNAME:CET
DTSTART:20251026T010000
END:STANDARD
BEGIN:DAYLIGHT
TZOFFSETFROM:+0100
TZOFFSETTO:+0200
TZNAME:CEST
DTSTART:20260329T010000
END:DAYLIGHT
BEGIN:STANDARD
TZOFFSETFROM:+0200
TZOFFSETTO:+0100
TZNAME:CET
DTSTART:20261025T010000
END:STANDARD
END:VTIMEZONE
BEGIN:VEVENT
DTSTART;TZID=Europe/Oslo:20251209T160000
DTEND;TZID=Europe/Oslo:20251209T200000
DTSTAMP:20260426T041315
CREATED:20251208T070055Z
LAST-MODIFIED:20251208T070338Z
UID:9840-1765296000-1765310400@nksoslofylke.no
SUMMARY:Julegavepakking på Storo Storsenter 6. - 23. desember
DESCRIPTION:Sanitetskvinnene Oslo fylke inviterer til det årlige julegavepakke-prosjektet sammen med lokalforeningene i samarbeid med Storo Storsenter. I dagene fram mot jul står sanitetskvinner fra hele Oslo og hjeper kundene på Storo Senter med å pakke inn gavene de har kjøpt. Senteret betaler sanitetskvinnene for å gjøre denne jobben\, og alle pengene går direkte til gaver til barn i sårbare familier. \nFor mange familier er julen en ekstra krevende tid. Julegaveprosjektet sørger for at barn i sårbare familier i Oslo får julegaver de både ønsker seg og trenger. Dette er gaver som skaper ekte juleglede. Har du tid og lyst til å være med på denne dugnaden kan du melde deg på her: https://julegavepakking.pameldinger.no- Vi står på Storo fra 6. desember til 23. desember hver tirsdag\, onsdag og torsdag kl. 16.00-20.00\, og lørdag og søndag kl. 14.00–18.00
URL:https://nksoslofylke.no/kalender/julegavepakking-dugnad-pa-storo-senter-6-23-desember/
LOCATION:Storo Storsenter\, Vitaminveien 7\, Oslo\, 0485\, Norway
ATTACH;FMTTYPE=image/jpeg:https://nksoslofylke.no/wp-content/uploads/2025/12/20251207_153701-scaled.jpg
ORGANIZER;CN="Sanitetskvinnene Oslo fylke":MAILTO:nksoslofylke@outlook.com
END:VEVENT
BEGIN:VEVENT
DTSTART;TZID=Europe/Oslo:20251210T160000
DTEND;TZID=Europe/Oslo:20251210T200000
DTSTAMP:20260426T041315
CREATED:20251209T064422Z
LAST-MODIFIED:20251209T064422Z
UID:9858-1765382400-1765396800@nksoslofylke.no
SUMMARY:Julegavepakking på Storo Storsenter\, 6. - 23. desember 2025
DESCRIPTION:KOM PÅ STORO STORSENTER 10. DESEMBER!  \nSanitetskvinnene Oslo fylke inviterer til det årlige julegavepakke-prosjektet sammen med lokalforeningene i samarbeid med Storo Storsenter. I dagene fram mot jul står sanitetskvinner fra hele Oslo og hjeper kundene på Storo Senter med å pakke inn gavene de har kjøpt. Senteret betaler sanitetskvinnene for å gjøre denne jobben\, og alle pengene går direkte til gaver til barn i sårbare familier. \nFor mange familier er julen en ekstra krevende tid. Julegaveprosjektet sørger for at barn i sårbare familier i Oslo får julegaver de både ønsker seg og trenger. Dette er gaver som skaper ekte juleglede. Har du tid og lyst til å være med på denne dugnaden kan du melde deg på her: https://julegavepakking.pameldinger.no- Vi står på Storo fra 6. desember til 23. desember hver tirsdag\, onsdag og torsdag kl. 16.00-20.00\, og lørdag og søndag kl. 14.00–18.00
URL:https://nksoslofylke.no/kalender/julegavepakking-pa-storo-storsenter-6-23-desember-2025/
LOCATION:Storo Storsenter\, Vitaminveien 7\, Oslo\, 0485\, Norway
ATTACH;FMTTYPE=image/jpeg:https://nksoslofylke.no/wp-content/uploads/2025/12/20251207_151426-scaled.jpg
ORGANIZER;CN="Sanitetskvinnene Oslo fylke":MAILTO:nksoslofylke@outlook.com
END:VEVENT
BEGIN:VEVENT
DTSTART;TZID=Europe/Oslo:20251210T170000
DTEND;TZID=Europe/Oslo:20251210T170000
DTSTAMP:20260426T041315
CREATED:20251128T110442Z
LAST-MODIFIED:20251208T135647Z
UID:9767-1765386000-1765386000@nksoslofylke.no
SUMMARY:Kanskje kommer Kongen
DESCRIPTION:Kanskje kommer Kongen\nFrognerparken Sanitetsforening inviterer eldre i bydelen til middag og bløtkake med underholdning og lotteri på Majorstuen seniorsenter onsdag 10. desember kl 16.00. \nVi gleder oss til onsdag og ønske velkommen til beboere i bydelen!
URL:https://nksoslofylke.no/kalender/kanskje-kommer-kongen/
ATTACH;FMTTYPE=image/jpeg:https://nksoslofylke.no/wp-content/uploads/2025/11/AdobeStock_1817274624-scaled.jpeg
END:VEVENT
BEGIN:VEVENT
DTSTART;TZID=Europe/Oslo:20251211T180000
DTEND;TZID=Europe/Oslo:20251211T190000
DTSTAMP:20260426T041315
CREATED:20251129T081658Z
LAST-MODIFIED:20251212T111251Z
UID:9797-1765476000-1765479600@nksoslofylke.no
SUMMARY:Julemøte i Østensjø sanitetsforening
DESCRIPTION:Julemøte 11. desember i Østensjø sanitetsforening \nØstensjø sanitetsforening inviterer til julemøte 11. desember kl 18 på Manglerud Gård Treffsenter\, Byggveien 15\, 0680 Oslo. \nDet blir servering av julemat med alkoholfri drikke\, kransekake og kaffe. God stemning med sang\, quiz\, utlodning og kaffe. Egenandel kr 150 betales ved inngang. \nBindende påmelding til Maibritt\, senest 7 desember\, epost: maibrittchr@hotmail.com\, SMS 959 49 649
URL:https://nksoslofylke.no/kalender/julemote-i-ostensjo-sanitetsforening/
LOCATION:Manglerud Gård Treffsenter\, Byggveien 15\, Oslo\, 0680\, Norway
ATTACH;FMTTYPE=image/jpeg:https://nksoslofylke.no/wp-content/uploads/2025/11/Ostensjo-sanitetsforening-1.jpg
END:VEVENT
END:VCALENDAR