BEGIN:VCALENDAR
VERSION:2.0
PRODID:-//NKS Oslo fylke - ECPv6.15.12//NONSGML v1.0//EN
CALSCALE:GREGORIAN
METHOD:PUBLISH
X-WR-CALNAME:NKS Oslo fylke
X-ORIGINAL-URL:https://nksoslofylke.no
X-WR-CALDESC:Arrangement for NKS Oslo fylke
REFRESH-INTERVAL;VALUE=DURATION:PT1H
X-Robots-Tag:noindex
X-PUBLISHED-TTL:PT1H
BEGIN:VTIMEZONE
TZID:Europe/Oslo
BEGIN:DAYLIGHT
TZOFFSETFROM:+0100
TZOFFSETTO:+0200
TZNAME:CEST
DTSTART:20240331T010000
END:DAYLIGHT
BEGIN:STANDARD
TZOFFSETFROM:+0200
TZOFFSETTO:+0100
TZNAME:CET
DTSTART:20241027T010000
END:STANDARD
BEGIN:DAYLIGHT
TZOFFSETFROM:+0100
TZOFFSETTO:+0200
TZNAME:CEST
DTSTART:20250330T010000
END:DAYLIGHT
BEGIN:STANDARD
TZOFFSETFROM:+0200
TZOFFSETTO:+0100
TZNAME:CET
DTSTART:20251026T010000
END:STANDARD
BEGIN:DAYLIGHT
TZOFFSETFROM:+0100
TZOFFSETTO:+0200
TZNAME:CEST
DTSTART:20260329T010000
END:DAYLIGHT
BEGIN:STANDARD
TZOFFSETFROM:+0200
TZOFFSETTO:+0100
TZNAME:CET
DTSTART:20261025T010000
END:STANDARD
END:VTIMEZONE
BEGIN:VEVENT
DTSTART;TZID=Europe/Oslo:20251223T160000
DTEND;TZID=Europe/Oslo:20251223T200000
DTSTAMP:20260426T005107
CREATED:20251211T094726Z
LAST-MODIFIED:20251211T102713Z
UID:9862-1766505600-1766520000@nksoslofylke.no
SUMMARY:Støtt julegavepakkedugnaden vår - vi er på Storo til og med 23. desember!
DESCRIPTION:KOM PÅ STORO STORSENTER OG STØTT JULEGAVEPAKKEDUGNADEN VÅR – VI ER DER TIL OG MED 23. DESEMBER! \nSanitetskvinnene Oslo fylke inviterer til det årlige julegavepakke-prosjektet sammen med lokalforeningene i samarbeid med Storo Storsenter. I dagene fram mot jul står sanitetskvinner fra hele Oslo og hjeper kundene på Storo Senter med å pakke inn gavene de har kjøpt. Senteret betaler sanitetskvinnene for å gjøre denne jobben\, og alle pengene går direkte til gaver til barn i sårbare familier. \nFor mange familier er julen en ekstra krevende tid. Julegaveprosjektet sørger for at barn i sårbare familier i Oslo får julegaver de både ønsker seg og trenger. Dette er gaver som skaper ekte juleglede. Har du tid og lyst til å være med på denne dugnaden kan du melde deg på her: https://julegavepakking.pameldinger.no- Vi står på Storo fra 6. desember til 23. desember hver tirsdag\, onsdag og torsdag kl. 16.00-20.00\, og lørdag og søndag kl. 14.00–18.00
URL:https://nksoslofylke.no/kalender/stott-julegavepakkedugnanden-var-vi-er-pa-storo-til-og-med-23-desember/
LOCATION:Storo Storsenter\, Vitaminveien 7\, Oslo\, 0485\, Norway
ATTACH;FMTTYPE=image/jpeg:https://nksoslofylke.no/wp-content/uploads/2025/12/20251207_153308-scaled.jpg
ORGANIZER;CN="Sanitetskvinnene Oslo fylke":MAILTO:nksoslofylke@outlook.com
END:VEVENT
END:VCALENDAR