BEGIN:VCALENDAR
VERSION:2.0
PRODID:-//NKS Oslo fylke - ECPv6.15.12//NONSGML v1.0//EN
CALSCALE:GREGORIAN
METHOD:PUBLISH
X-ORIGINAL-URL:https://nksoslofylke.no
X-WR-CALDESC:Arrangement for NKS Oslo fylke
REFRESH-INTERVAL;VALUE=DURATION:PT1H
X-Robots-Tag:noindex
X-PUBLISHED-TTL:PT1H
BEGIN:VTIMEZONE
TZID:Europe/Oslo
BEGIN:DAYLIGHT
TZOFFSETFROM:+0100
TZOFFSETTO:+0200
TZNAME:CEST
DTSTART:20250330T010000
END:DAYLIGHT
BEGIN:STANDARD
TZOFFSETFROM:+0200
TZOFFSETTO:+0100
TZNAME:CET
DTSTART:20251026T010000
END:STANDARD
BEGIN:DAYLIGHT
TZOFFSETFROM:+0100
TZOFFSETTO:+0200
TZNAME:CEST
DTSTART:20260329T010000
END:DAYLIGHT
BEGIN:STANDARD
TZOFFSETFROM:+0200
TZOFFSETTO:+0100
TZNAME:CET
DTSTART:20261025T010000
END:STANDARD
BEGIN:DAYLIGHT
TZOFFSETFROM:+0100
TZOFFSETTO:+0200
TZNAME:CEST
DTSTART:20270328T010000
END:DAYLIGHT
BEGIN:STANDARD
TZOFFSETFROM:+0200
TZOFFSETTO:+0100
TZNAME:CET
DTSTART:20271031T010000
END:STANDARD
END:VTIMEZONE
BEGIN:VEVENT
DTSTART;TZID=Europe/Oslo:20260107T190000
DTEND;TZID=Europe/Oslo:20260107T190000
DTSTAMP:20260425T161125
CREATED:20260107T084753Z
LAST-MODIFIED:20260107T153053Z
UID:9895-1767812400-1767812400@nksoslofylke.no
SUMMARY:Åpent møte "Informasjon om 113"\, 7. januar kl. 19.00 i Høybråten sanitetsforening
DESCRIPTION:Høybråten Sanitetsforening arrangerer åpent møte 7. januar kl 19\, «Informasjon om 113» på «Huset Vårt» i Bergtunveien 7b. \nHit kommer sykepleier Trine Lise Hagen fra AMK sentralen og forteller om hvordan de jobber. Hun er medisinsk operatør\, så om du ringer 113 er hun en av de som du vil møte. Hun vil også gi litt tips og triks om du kommer i en nødssituasjon og trenger å kontakte dem. \nMøtet er åpent for alle – så bare kom! Det blir kaffe og noe å bite i. Ta med gevinst! Velkommen! \nFacebookevent: https://fb.me/e/9ygtjcrr2
URL:https://nksoslofylke.no/kalender/apent-manedsmote-7-januar-kl-19-00-i-hoybraten-sanitetsforening-informasjon-om-113/
LOCATION:Bergtunveien 7 b\, Oslo\, 1087\, Norway
ATTACH;FMTTYPE=image/jpeg:https://nksoslofylke.no/wp-content/uploads/2026/01/612166177_869847565628405_6875841614269424870_n.jpg
END:VEVENT
END:VCALENDAR