BEGIN:VCALENDAR
VERSION:2.0
PRODID:-//NKS Oslo fylke - ECPv6.15.12//NONSGML v1.0//EN
CALSCALE:GREGORIAN
METHOD:PUBLISH
X-ORIGINAL-URL:https://nksoslofylke.no
X-WR-CALDESC:Arrangement for NKS Oslo fylke
REFRESH-INTERVAL;VALUE=DURATION:PT1H
X-Robots-Tag:noindex
X-PUBLISHED-TTL:PT1H
BEGIN:VTIMEZONE
TZID:Europe/Oslo
BEGIN:DAYLIGHT
TZOFFSETFROM:+0100
TZOFFSETTO:+0200
TZNAME:CEST
DTSTART:20250330T010000
END:DAYLIGHT
BEGIN:STANDARD
TZOFFSETFROM:+0200
TZOFFSETTO:+0100
TZNAME:CET
DTSTART:20251026T010000
END:STANDARD
BEGIN:DAYLIGHT
TZOFFSETFROM:+0100
TZOFFSETTO:+0200
TZNAME:CEST
DTSTART:20260329T010000
END:DAYLIGHT
BEGIN:STANDARD
TZOFFSETFROM:+0200
TZOFFSETTO:+0100
TZNAME:CET
DTSTART:20261025T010000
END:STANDARD
BEGIN:DAYLIGHT
TZOFFSETFROM:+0100
TZOFFSETTO:+0200
TZNAME:CEST
DTSTART:20270328T010000
END:DAYLIGHT
BEGIN:STANDARD
TZOFFSETFROM:+0200
TZOFFSETTO:+0100
TZNAME:CET
DTSTART:20271031T010000
END:STANDARD
END:VTIMEZONE
BEGIN:VEVENT
DTSTART;TZID=Europe/Oslo:20260112T180000
DTEND;TZID=Europe/Oslo:20260112T180000
DTSTAMP:20260425T175631
CREATED:20260108T150843Z
LAST-MODIFIED:20260108T150843Z
UID:9961-1768240800-1768240800@nksoslofylke.no
SUMMARY:Medlemstreff i Bygdøy Sanitetsforening\, 12. januar kl 18.00 i Bygdøhus
DESCRIPTION:Bygdøy sanitetsforening inviterer til medlemstreff\, mandag 12. januar kl 18.00 på Bygdøhus. \n\nDet blir påfyll av garn til «Ull og omtanke «\, ta med ferdige lapper så sender lokalforeningen dem inn. Du kan selvsagt ta med eget håndarbeid.\n\nEnkel servering \, lotteri og sosialt samvær.\n\nVelkommen!
URL:https://nksoslofylke.no/kalender/medlemstreff-i-bygdoy-sanitetsforening-12-januar-kl-18-00-i-bygdohus/
LOCATION:Huk Aveny 45\, Oslo\, 0287\, Norway
ATTACH;FMTTYPE=image/jpeg:https://nksoslofylke.no/wp-content/uploads/2026/01/609107462_25218922247806724_7053659880890613363_n.jpg
END:VEVENT
END:VCALENDAR