BEGIN:VCALENDAR
VERSION:2.0
PRODID:-//NKS Oslo fylke - ECPv6.15.12//NONSGML v1.0//EN
CALSCALE:GREGORIAN
METHOD:PUBLISH
X-WR-CALNAME:NKS Oslo fylke
X-ORIGINAL-URL:https://nksoslofylke.no
X-WR-CALDESC:Arrangement for NKS Oslo fylke
REFRESH-INTERVAL;VALUE=DURATION:PT1H
X-Robots-Tag:noindex
X-PUBLISHED-TTL:PT1H
BEGIN:VTIMEZONE
TZID:Europe/Oslo
BEGIN:DAYLIGHT
TZOFFSETFROM:+0100
TZOFFSETTO:+0200
TZNAME:CEST
DTSTART:20250330T010000
END:DAYLIGHT
BEGIN:STANDARD
TZOFFSETFROM:+0200
TZOFFSETTO:+0100
TZNAME:CET
DTSTART:20251026T010000
END:STANDARD
BEGIN:DAYLIGHT
TZOFFSETFROM:+0100
TZOFFSETTO:+0200
TZNAME:CEST
DTSTART:20260329T010000
END:DAYLIGHT
BEGIN:STANDARD
TZOFFSETFROM:+0200
TZOFFSETTO:+0100
TZNAME:CET
DTSTART:20261025T010000
END:STANDARD
BEGIN:DAYLIGHT
TZOFFSETFROM:+0100
TZOFFSETTO:+0200
TZNAME:CEST
DTSTART:20270328T010000
END:DAYLIGHT
BEGIN:STANDARD
TZOFFSETFROM:+0200
TZOFFSETTO:+0100
TZNAME:CET
DTSTART:20271031T010000
END:STANDARD
END:VTIMEZONE
BEGIN:VEVENT
DTSTART;TZID=Europe/Oslo:20260126T163000
DTEND;TZID=Europe/Oslo:20260126T183000
DTSTAMP:20260425T160820
CREATED:20260119T190340Z
LAST-MODIFIED:20260119T190340Z
UID:10090-1769445000-1769452200@nksoslofylke.no
SUMMARY:Åpent treff for ukrainske flyktninger hver mandag 26. januar - 16. juni i Oslo sanitetsforening
DESCRIPTION:Oslo sanitetsforening arrangerer åpent treff for ukrainske flyktninger hver mandag \nTid: Mandager kl. 16:30-18:30 t.o.m. 16. juni (ikke påskeuka og rød dager)\nSted: I Solskinnsveien 12. \nHver mandag inviterer vi Ukrainske flyktninger til et gratis\, sosialt og åpent treff. På treffene lager vi norsk og internasjonal mat. Vi har samtaler om for eksempel hvordan vi feirer de ulike høytidene\, innføring i typiske norske idretter\, vi gjør enkelt håndarbeid\, puste- og avslapningsøvelser\, har quiz eller ser film med relevans til Norge/Skandinavia. Vi vil alltid servere et måltid eller snacks. \nVi tilbyr barnepass til deltakere med barn. Etter treffene på mandager kan de som ønsker delta på språktrening fra kl. 18:30-19:30/20:00. OBS: Vi har ikke individuell veiledning\, vi veileder ikke for eksempel i juridiske spørsmål\, men vi inviterer til et sosialt og trygt treffsted. \nEr det første gangen du deltar? Meld deg på ved å ta kontakt koordinator. Les mer her: https://osf.no/tilbud-og-aktiviteter/apent-treff
URL:https://nksoslofylke.no/kalender/apent-treff-for-ukrainske-flyktninger-hver-mandag-26-januar-16-juni-i-oslo-sanitetsforening/
LOCATION:Solskinnsveien 12\, Solskinnsveien 12
ATTACH;FMTTYPE=image/jpeg:https://nksoslofylke.no/wp-content/uploads/2026/01/Aapent-treff-002.jpeg
END:VEVENT
BEGIN:VEVENT
DTSTART;TZID=Europe/Oslo:20260127T120000
DTEND;TZID=Europe/Oslo:20260127T140000
DTSTAMP:20260425T160820
CREATED:20260119T185438Z
LAST-MODIFIED:20260119T185729Z
UID:10085-1769515200-1769522400@nksoslofylke.no
SUMMARY:Strikk for premature i Oslo sanitetsforening våren 2026 - første gang 27. januar. Sjekk datoer!
DESCRIPTION:Strikk for premature i Oslo sanitetsforening – bli med og strikk for de aller minste! \nDato: 27.01\,10.02\, 24.02\, 10.03\, 24.03\, 07.04\, 21.04\, 05.05\, 19.05\, 02.06 og 16.06\nKlokkeslett 12-14\nSted: Solskinnsveien 12 \n Strikk for premature er en varm og inkluderende gruppe for frivillige som strikker små ullplagg og pledd til babyer innlagt på intensivavdelingen ved Ullevål sykehus. Her finner du en hyggelig møteplass med rom for alle\, enten du er nybegynner eller erfaren strikker. \nOslo Sanitetsforening stiller med garn og enkel servering\, så det er bare å ta med strikkelysten. Du trenger ikke å melde deg på Strikk for premature. Det er bare å komme innom. \nLes mer her: https://osf.no/tilbud-og-aktiviteter/strikk-for-premature \nFoto: Monica Jenssen
URL:https://nksoslofylke.no/kalender/strikk-for-premature-i-oslo-sanitetsforening-varen-2026-forste-gang-27-januar-sjekk-datoer/
LOCATION:Solskinnsveien 12\, Solskinnsveien 12
ATTACH;FMTTYPE=image/jpeg:https://nksoslofylke.no/wp-content/uploads/2026/01/Strikk-for-premature-002-scaled.jpg
END:VEVENT
BEGIN:VEVENT
DTSTART;TZID=Europe/Oslo:20260128T173000
DTEND;TZID=Europe/Oslo:20260128T193000
DTSTAMP:20260425T160820
CREATED:20260109T193955Z
LAST-MODIFIED:20260118T150859Z
UID:9973-1769621400-1769628600@nksoslofylke.no
SUMMARY:Vinterstrikk annenhver onsdag i Blindern og Vinderen sanitetsforening\, neste gang 28. januar!
DESCRIPTION:Strikk og skravl i Blindern og Vinderen sanitetsforening inviterer til vinterens hyggeligste strikketreff på Slemdal. Vi serverer kaffe\, te og vafler. Ta med egne prosjekter eller bli med på å strikke lapper til Ull og omtanke. Vi møtes annenhver onsdag. \nSted: Villa Ly\, Tennisveien 2G\, 0777 Oslo\nKlokkeslett: 17.30 – 19.30 \nGRATIS DELTAKELSE! \nVi hjelper deg i gang om du er ny i strikkingens verden. Alle aldere er hjertelig velkommen! \nTreffdatoer i vinter: \n28. januar\n11. februar\n25. februar\n14. mars\n15. mars
URL:https://nksoslofylke.no/kalender/vinterstrikk-med-strikk-og-skravl-i-blindern-og-vindern-sanitetsforening-annenhver-onsdag-fra-14-januar/
LOCATION:Villa Ly\, Tennisveien 2G\, Tennisveien 2 G\, Oslo\, 0777\, Norway
ATTACH;FMTTYPE=image/jpeg:https://nksoslofylke.no/wp-content/uploads/2026/01/Strikk-og-skravl2-1.jpg
END:VEVENT
BEGIN:VEVENT
DTSTART;TZID=Europe/Oslo:20260129T110000
DTEND;TZID=Europe/Oslo:20260129T160000
DTSTAMP:20260425T160820
CREATED:20260122T173128Z
LAST-MODIFIED:20260128T183303Z
UID:10106-1769684400-1769702400@nksoslofylke.no
SUMMARY:Bli med på fastelavnsbinding i Blindern og Vinderen sanitetsforening fra 27. januar - 11. februar.
DESCRIPTION:Fra 27. januar og frem til 11. februar  binder vi fastelavnsris i Villa Ly. NB! Tirsdag 3. februar sitter vi på Vinderen-torvet og binder\, hygger og selger fra kl 14.00 til kl 17.00. \nSend oss gjerne en sms  om tidspunkt som kan passe å bidra så vi kan forberede oss på hvor mange vi blir. \n\n\n\nDato\nUkedag\nKlokkeslett\nSted\nKontaktperson/info\n\n\n27.01\nTirsdag\n11-16\nVilla Ly\nTurid og Anita\n\n\n28.01\nOnsdag\n16-19:30\nVilla Ly\nStrikkeklubben v/Margrethe\n\n\n29.01\nTorsdag\n11-16\nVilla Ly\nTurid og Anita\n\n\n02.02\nMandag\n11-17\nVilla Ly\nTurid og Anita/utkjøring av ris\n\n\n03.02\nTirsdag\n14-17\nVinderen\nAnita\n\n\n04.02\nOnsdag\n11-15\nVilla Ly\nTurid\n\n\n05.02\nTorsdag\n11-15\nVilla Ly\nTurid og Anita\n\n\n10.02\nTirsdag\n11-15\nVilla Ly\nTurid\n\n\n11.02\nOnsdag\n11-17\nVilla Ly\nTurid og Anita (Sjekk om nødvendig)\n\n\n12.02\nTorsdag\n13-17\nVinderen\nAnita m. flere?/Salg av risene\n\n\n13.02\nFredag\n13-17\nVinderen\nAnita m. flere?/ Salg av risene\n\n\n15.02\nSøndag\n\n\nFastelavnssøndag\n\n\n\nKontaktpersoner:\nTurid Gregersen     Mob: 95921010\nAnita A. Hoff        Mob: 91853398 \n 
URL:https://nksoslofylke.no/kalender/meld-deg-pa-fastelavnsbinding-i-blindern-og-vinderen-sanitetsforening-fra-27-januar/
LOCATION:Villa Ly\, Tennisveien 2G\, Tennisveien 2 G\, Oslo\, 0777\, Norway
ATTACH;FMTTYPE=image/jpeg:https://nksoslofylke.no/wp-content/uploads/2026/01/Fastelavnsbinding-i-Blindern-og-Vinderen-sanitetsforening.jpg
END:VEVENT
BEGIN:VEVENT
DTSTART;TZID=Europe/Oslo:20260131T100000
DTEND;TZID=Europe/Oslo:20260131T160000
DTSTAMP:20260425T160820
CREATED:20260116T133647Z
LAST-MODIFIED:20260116T134019Z
UID:10036-1769853600-1769875200@nksoslofylke.no
SUMMARY:Støtt forskning på kvinnehelse: Groruddalen sanitetsforening lager og selger fastelavnsris\, 31. januar og 1. februar
DESCRIPTION:FASTELAVNSRIS – støtt forskning på kvinnehelse. Groruddalen sanitetsforening lager og selger fastelavnsris!\n\n\n\nVi møtes på Grorudhuset 31. januar og 1. februar kl 10-16. Her skal vi binde 500 ris og håper mange har lyst og anledning til å hjelpe til. Inntekten går til forskning på kvinnehelse.\n\nMeld deg på til: Liv.aass.frank@gmail.com \n\nVi byr på hyggelig selskap\, kaffe og litt å bite i \n\n\n\nVelkommen!
URL:https://nksoslofylke.no/kalender/groruddalen-sanitetsforening-lager-og-selger-fastelavnsris-31-januar-og-1-februar-stott-forskning-pa-kvinnehelse/
LOCATION:Grorudhuset\, Grorudhuset\, Martin Skatvedts vei 1\, Oslo\, 0950\, Norway
ATTACH;FMTTYPE=image/jpeg:https://nksoslofylke.no/wp-content/uploads/2026/01/612181035_1197847112474393_2400116523872773916_n.jpg
END:VEVENT
END:VCALENDAR