BEGIN:VCALENDAR
VERSION:2.0
PRODID:-//NKS Oslo fylke - ECPv6.15.12//NONSGML v1.0//EN
CALSCALE:GREGORIAN
METHOD:PUBLISH
X-ORIGINAL-URL:https://nksoslofylke.no
X-WR-CALDESC:Arrangement for NKS Oslo fylke
REFRESH-INTERVAL;VALUE=DURATION:PT1H
X-Robots-Tag:noindex
X-PUBLISHED-TTL:PT1H
BEGIN:VTIMEZONE
TZID:Europe/Oslo
BEGIN:DAYLIGHT
TZOFFSETFROM:+0100
TZOFFSETTO:+0200
TZNAME:CEST
DTSTART:20250330T010000
END:DAYLIGHT
BEGIN:STANDARD
TZOFFSETFROM:+0200
TZOFFSETTO:+0100
TZNAME:CET
DTSTART:20251026T010000
END:STANDARD
BEGIN:DAYLIGHT
TZOFFSETFROM:+0100
TZOFFSETTO:+0200
TZNAME:CEST
DTSTART:20260329T010000
END:DAYLIGHT
BEGIN:STANDARD
TZOFFSETFROM:+0200
TZOFFSETTO:+0100
TZNAME:CET
DTSTART:20261025T010000
END:STANDARD
BEGIN:DAYLIGHT
TZOFFSETFROM:+0100
TZOFFSETTO:+0200
TZNAME:CEST
DTSTART:20270328T010000
END:DAYLIGHT
BEGIN:STANDARD
TZOFFSETFROM:+0200
TZOFFSETTO:+0100
TZNAME:CET
DTSTART:20271031T010000
END:STANDARD
END:VTIMEZONE
BEGIN:VEVENT
DTSTART;TZID=Europe/Oslo:20260203T120000
DTEND;TZID=Europe/Oslo:20260203T140000
DTSTAMP:20260423T123308
CREATED:20260119T184735Z
LAST-MODIFIED:20260128T183528Z
UID:10082-1770120000-1770127200@nksoslofylke.no
SUMMARY:Fastelavnsverksted 3. februar arrangert av Oslo sanitetsforening
DESCRIPTION:Oslo sanitetsforening arrangerer fastelavnsverksted\, tirsdag 3. februar kl. 12:00-14:00 i Solskinnsveien 12 \nOslo Sanitetsforening arrangerer hvert år et fastelavnsverksted der fjær og kvister forvandles til fargerike fastelavnsris. Dette er en fantastisk mulighet til å delta i en hyggelig og meningsfull tradisjon. Verkstedet er åpent for alle\, og det er spesielt engasjerende for barn! Opplæring vil bli gitt\, og vi serverer kaffe og te. \nI år det 80 år siden Sanitetskvinnene første gang bandt de fargerike fastelavnsrisene og solgte dem til inntekt for gode formål. I år går inntekten til forskning på yngre kvinners helse. \nPåmelding 3. februar: https://pameldinger.no/e/s160e3 \nFoto: Monica Jenssen 
URL:https://nksoslofylke.no/kalender/fastelavnsverksted-21-januar-og-3-februar-arrangert-av-oslo-sanitetsforening/
LOCATION:Solskinnsveien 12\, 0376 Oslo\, Solskinnsveien 12
ATTACH;FMTTYPE=image/jpeg:https://nksoslofylke.no/wp-content/uploads/2026/01/Fastelaven-Marit-foto-Monica-Jenssen-2-002.jpg
END:VEVENT
BEGIN:VEVENT
DTSTART;TZID=Europe/Oslo:20260203T180000
DTEND;TZID=Europe/Oslo:20260203T180000
DTSTAMP:20260423T123308
CREATED:20260111T182650Z
LAST-MODIFIED:20260131T122532Z
UID:9993-1770141600-1770141600@nksoslofylke.no
SUMMARY:Kløvertur om St. Josephsøstrene 3. februar kl 18.00 - Grefsen\, Kjelsås og omegn sanitetsforening
DESCRIPTION:Grefsen\, Kjelsås og omegn sanitetsforening inviterer til Kløvertur 3. februar.  \nVi møtes vi utenfor «Den gamle brannstasjonen» i Nordhagaveien 1 kl 18.00\, og går bortover Brannvaktveien med stopp hos St. Josephsøstrene. Her får vi høre mer om hva St. Josephsøstrene er\, hvordan hverdagen deres er og hvordan de kom til Kjelsås. Vi fortsetter til Sverre Enevolds plass eller Jupitern\, og avslutter som vanlig med kaffe mm. \nTA MED KOPP! \nTuren er for alle. Velkommen! \nTuren er et samarbeid mellom Kjelsås idrettslag\, historielagene på Grefsen/Kjelsås/Nydalen og Tåsen/Nordberg/Ullevål og Grefsen og Kjelsås sanitetsforening. \n 
URL:https://nksoslofylke.no/kalender/klovertur-om-st-josephsostrene-3-februar-kl-18-00-arrangert-av-grefsen-og-kjelsas-sanitetsforening/
LOCATION:Nordhagaveien 11\, Nordhagaveien 11\, Oslo\, 0491\, Norway
ATTACH;FMTTYPE=image/jpeg:https://nksoslofylke.no/wp-content/uploads/2026/01/St.-Josephsostrene.jpg
END:VEVENT
BEGIN:VEVENT
DTSTART;TZID=Europe/Oslo:20260203T190000
DTEND;TZID=Europe/Oslo:20260203T210000
DTSTAMP:20260423T123308
CREATED:20260119T191014Z
LAST-MODIFIED:20260128T183148Z
UID:10093-1770145200-1770152400@nksoslofylke.no
SUMMARY:Språkvenn - møtested for å lære seg norsk\, hver tirsdag - neste gang 3. februar - arrangert av Oslo sanitetsforening
DESCRIPTION: Oslo sanitetsforening arrangerer SPRÅKVENN hver tirsdag! \nTirsdager kl. 19:00-21:00 t.o.m. 2.juni (Ikke påskeuka eller røde dager)\nSted: I Solskinnsveien 12 \nSpråkvenn er et trivelig møtested for alle som ønsker å forbedre norskkunnskapene sine. Her får deltagerne muligheten til å snakke mest mulig\, lære nye ord\, og øve på uttale i en avslappet og støttende atmosfære. Vi leser tekster sammen\, trener på grammatikk\, og har mye samtale med mye latter og god stemning. \nTilbudet er gratis og åpent for minoritetsspråklige som ønsker å lære seg norsk. Deltakerne bør kunne litt norsk\, siden vi prøver å snakke norsk hele tiden. \nSpråkvenn krever ingen påmelding\, det er bare å møte opp. I Solskinnsveien er både menn og kvinner velkomne. \nLes mer her: https://osf.no/tilbud-og-aktiviteter/sprakvenn \nFoto: Monica Jenssen
URL:https://nksoslofylke.no/kalender/sprakvenn-motested-for-a-laere-seg-norsk-hver-tirsdag-27-januar-2-juni-arrangert-av-oslo-sanitetsforening/
LOCATION:Solskinnsveien 12\, Solskinnsveien 12
ATTACH;FMTTYPE=image/jpeg:https://nksoslofylke.no/wp-content/uploads/2026/01/Sprakvenn-Foto-Monica-Jenssen-002-scaled.jpg
END:VEVENT
BEGIN:VEVENT
DTSTART;TZID=Europe/Oslo:20260204T180000
DTEND;TZID=Europe/Oslo:20260204T180000
DTSTAMP:20260423T123308
CREATED:20260107T085907Z
LAST-MODIFIED:20260107T165621Z
UID:9899-1770228000-1770228000@nksoslofylke.no
SUMMARY:Årsmøte i Høybråten sanitetsforening 4. februar
DESCRIPTION:Høybråten sanitetsforening avholder årsmøte for medlemmer 4. februar kl. 18.00 Bergtunveien 7 b i «Vårt hus». Servering og lotteri – ta med gevinst! \nInnkalling er sendt til alle  medlemmer. Frist for innsending av forslag til årsmøtet er 19. januar.
URL:https://nksoslofylke.no/kalender/arsmote-i-hoybraten-sanitetsforening-4-februar/
LOCATION:Bergtunveien 7 b\, Oslo\, 1087\, Norway
ATTACH;FMTTYPE=image/jpeg:https://nksoslofylke.no/wp-content/uploads/2026/01/Arsmote-scaled.jpg
END:VEVENT
BEGIN:VEVENT
DTSTART;TZID=Europe/Oslo:20260205T140000
DTEND;TZID=Europe/Oslo:20260205T170000
DTSTAMP:20260423T123308
CREATED:20260119T174332Z
LAST-MODIFIED:20260119T182023Z
UID:10058-1770300000-1770310800@nksoslofylke.no
SUMMARY:Fastelavnsbinding i Gamle Oslo sanitetsforening 5. februar - vi pynter ris med fjær
DESCRIPTION:Gamle Oslo sanitetsforening binder fastelavnsris med fjær 5. februar kl 14.00 – 19.00 \nKom når du kan\, og bli så lenge du kan og vil! \nVi setter sammen til langbord i kafeen og legger alle fjærene utover. \nVi binder ris fra kl.14 til vi er ferdige. Kom en time eller flere. Det blir kaffe\, te og snacks\, kan ikke love fastelavnsboller:) \nSanitetsforeningen har i 80 år bundet og solgt fastelavnsris. Inntektene fra fastelavnsris salget går til å bedre kvinners helse og til forskning på kvinnehelse. Vi i Gamle Oslo sanitetsforening har hittil gitt alt av inntekt fra fastelavnsrissalg til kvinnehelseforskning. Du kan lese mer om NKS og fastelavnsris her. \nI fjor fikk vi lov til å selge ris på Oslo City\, og det skal vi i år også\, men vi må pynte dem først. Derfor må du ta deg en tur! \nFacebook-event \nVelkommen!
URL:https://nksoslofylke.no/kalender/fastelavnsbinding-i-gamle-oslo-sanitetsforening-5-februar-vi-pynter-ris-med-fjaer/
LOCATION:Interkulturelt Museum\, Tøyenbekken 5\, Oslo\, 0188\, Norway
ATTACH;FMTTYPE=image/jpeg:https://nksoslofylke.no/wp-content/uploads/2026/01/Fastelavn-1.jpg
END:VEVENT
BEGIN:VEVENT
DTSTART;TZID=Europe/Oslo:20260207T110000
DTEND;TZID=Europe/Oslo:20260207T160000
DTSTAMP:20260423T123308
CREATED:20260119T175036Z
LAST-MODIFIED:20260119T181720Z
UID:10061-1770462000-1770480000@nksoslofylke.no
SUMMARY:Salg av fastelavnsris lørdag 7. februar på Oslo City\, arrangert av Gamle Oslo Sanitetsforening
DESCRIPTION:Salg av fastelavnsris lørdag 7. februar kl 11.00 – 16.00 på Oslo City \nGamle Oslo sanitetsforening selger fastelavnsris lørdag 7.februar i Oslos storstue\, Oslo City\, til vi ikke har flere! \nI fjor stod vi rett ved rulletrappen og var veldig synlige. \nDet var mange glade folk som ønsket støtte kvinnehelseforskning\, og andre som var nysgjerrige og aldri hadde sett slike buketter før. \nVi var enige at det var særs vellykket\, og ser frem til å kunne være der i år også. \nBli med! Mye mer gøy å gjøre det sammen! \nSe Facebook-event.   \nVi møtes på Interkulturelt Museum kl.11 og bærer risene med oss til Oslo City. \nBli med det du har mulighet til 11-13\, 12:30-14:30\, 14-16
URL:https://nksoslofylke.no/kalender/salg-av-fastelavnsris-lordag-7-februar-pa-oslo-city-arrangert-av-gamle-oslo-sanitetsforening/
LOCATION:Oslo City\, Stenersgate 1\, Oslo\, 0050\, Norway
ATTACH;FMTTYPE=image/jpeg:https://nksoslofylke.no/wp-content/uploads/2026/01/615736743_905985771956516_4537021557973305008_n.jpg
END:VEVENT
END:VCALENDAR