BEGIN:VCALENDAR
VERSION:2.0
PRODID:-//NKS Oslo fylke - ECPv6.15.12//NONSGML v1.0//EN
CALSCALE:GREGORIAN
METHOD:PUBLISH
X-WR-CALNAME:NKS Oslo fylke
X-ORIGINAL-URL:https://nksoslofylke.no
X-WR-CALDESC:Arrangement for NKS Oslo fylke
REFRESH-INTERVAL;VALUE=DURATION:PT1H
X-Robots-Tag:noindex
X-PUBLISHED-TTL:PT1H
BEGIN:VTIMEZONE
TZID:Europe/Oslo
BEGIN:DAYLIGHT
TZOFFSETFROM:+0100
TZOFFSETTO:+0200
TZNAME:CEST
DTSTART:20250330T010000
END:DAYLIGHT
BEGIN:STANDARD
TZOFFSETFROM:+0200
TZOFFSETTO:+0100
TZNAME:CET
DTSTART:20251026T010000
END:STANDARD
BEGIN:DAYLIGHT
TZOFFSETFROM:+0100
TZOFFSETTO:+0200
TZNAME:CEST
DTSTART:20260329T010000
END:DAYLIGHT
BEGIN:STANDARD
TZOFFSETFROM:+0200
TZOFFSETTO:+0100
TZNAME:CET
DTSTART:20261025T010000
END:STANDARD
BEGIN:DAYLIGHT
TZOFFSETFROM:+0100
TZOFFSETTO:+0200
TZNAME:CEST
DTSTART:20270328T010000
END:DAYLIGHT
BEGIN:STANDARD
TZOFFSETFROM:+0200
TZOFFSETTO:+0100
TZNAME:CET
DTSTART:20271031T010000
END:STANDARD
END:VTIMEZONE
BEGIN:VEVENT
DTSTART;TZID=Europe/Oslo:20260209T170000
DTEND;TZID=Europe/Oslo:20260209T190000
DTSTAMP:20260423T105404
CREATED:20260202T095938Z
LAST-MODIFIED:20260202T095938Z
UID:10119-1770656400-1770663600@nksoslofylke.no
SUMMARY:Vil du bli bedre i norsk? Do you want to improve your Norwegian? Språkkafe hver mandag i Grefsen og Kjelsås sanitetsforening
DESCRIPTION:Vil du bli bedre i norsk? Do you want to improve your Norwegian? Språkkafe hver mandag på Deichman Torshov! \nØv deg på å snakke norsk sammen med frivillige fra Grefsen\, Kjelsås og omegn Sanitetsforening. Språkkafeen er åpen for alle som ønsker å praktisere norsk og treffe hyggelige folk over en kopp kaffe eller te og enkel servering. \nGratis\, og ingen registrering. \nPractice your Norwegian alongside volunteers from the Grefsen\, Kjelsås og omegn Sanitetsforening. The language café is open to everyone who wish to improve their Norwegian and meet nice people over a cup of coffee or tea. \nThe language cafè is free and there is no need to register in advance. \nSpråkkafeen på Deichman Torshov er hver mandag 17.00-19.00. / The language café at Deichman Torshov takes place every Monday at 17:00-19:00. \nVelkommen! Welcome!
URL:https://nksoslofylke.no/kalender/vil-du-bli-bedre-i-norsk-do-you-want-to-improve-your-norwegian-sprakkafe-hver-mandag-i-grefsen-og-kjelsas-sanitetsforening/
LOCATION:Deichman Torshov\, Sandaker senter\, Deichman Torshov\, Sandakerveien 59\, 0477 Oslo\, Oslo\, 0477\, Norway
ATTACH;FMTTYPE=image/jpeg:https://nksoslofylke.no/wp-content/uploads/2026/02/Sprakkafe.jpg
END:VEVENT
BEGIN:VEVENT
DTSTART;TZID=Europe/Oslo:20260213T190000
DTEND;TZID=Europe/Oslo:20260213T190000
DTSTAMP:20260423T105404
CREATED:20260107T090713Z
LAST-MODIFIED:20260107T090713Z
UID:9904-1771009200-1771009200@nksoslofylke.no
SUMMARY:"Strikk og skravl" 13. februar i Høybråten sanitetsforening
DESCRIPTION:Høybråten sanitetsforening arrangerer «Strikk og skravl»\, 13. februar  kl 19.00 i «Huset vårt»\, Bergtunveien 7 b. \nKom med eller uten håndarbeid – åpent for alle. Vi holder kaffe og noe snacks. Ta med egen drikke utover dette – vi lar skravla gå – har du en liten gevinst til ett lite lotteri er det flott! Bergtunveien 7 b.
URL:https://nksoslofylke.no/kalender/strikk-og-skravl-13-februar-i-hoybraten-sanitetsforening/
LOCATION:Bergtunveien 7 b\, Oslo\, 1087\, Norway
ATTACH;FMTTYPE=image/jpeg:https://nksoslofylke.no/wp-content/uploads/2026/01/Strikk.jpg
END:VEVENT
BEGIN:VEVENT
DTSTART;TZID=Europe/Oslo:20260215T090000
DTEND;TZID=Europe/Oslo:20260215T170000
DTSTAMP:20260423T105404
CREATED:20260208T080945Z
LAST-MODIFIED:20260213T132917Z
UID:10187-1771146000-1771174800@nksoslofylke.no
SUMMARY:Fastelavnsris - her er utsalgsstedene i Oslo! Kampanjen avsluttes 15. februar!
DESCRIPTION:Kjøp fastelavnsris\, inntektene går til kvinnehelseforskning\, i år med fokus på yngre kvinners helse. \nHER ER UTSALGSSTEDENE – OPPDATERT PER 8. FEBRUAR! \nSalget av fastelavnsris har bidratt til ny kunnskap\, bygget forskningsmiljøer og gjort at forskning tas videre og brukes i praksis. \nI år har sanitetskvinner og frivillige i Oslo bundet 6.100 fastelavnsris. Og de neste ukene vil de ni lokalforeningene selge fastelavnsris over hele byen. Over finner du oversikt over hvor og når. Løp og kjøp for å bidra til dette viktige arbeidet! \nKampanjen avsluttes 15. februar. \nLes mer her. \n 
URL:https://nksoslofylke.no/kalender/fastelavnsris-lop-og-kjop-her-er-utsalgsstedene-i-oslo/
LOCATION:Oslo\, Oslo\, 0028\, Norway
ATTACH;FMTTYPE=image/jpeg:https://nksoslofylke.no/wp-content/uploads/2026/02/627052933_1320542510117984_8593518722673461951_n-2.jpg
ORGANIZER;CN="Sanitetskvinnene Oslo fylke":MAILTO:nksoslofylke@outlook.com
END:VEVENT
BEGIN:VEVENT
DTSTART;TZID=Europe/Oslo:20260215T110000
DTEND;TZID=Europe/Oslo:20260215T160000
DTSTAMP:20260423T105404
CREATED:20260119T175910Z
LAST-MODIFIED:20260119T175910Z
UID:10065-1771153200-1771171200@nksoslofylke.no
SUMMARY:Fastelavnssøndag 15. februar på Interkulturelt museum\, arrangert av Gamle Oslo sanitetsforening
DESCRIPTION:Fastelavnssøndag 15. februar kl 11.00 – 16.00 på Interkulturelt museum. \nSiden Gamle Oslo sanitetsforenings begynnelse har vi vært med å lage fastelavnssøndag på Interkulturelt museum. \nSe https://www.oslomuseum.no/arkiv/gjentakende-arrangementer/fastelavn/ \nMange lokale barnefamilier\, besteforeldre\, tanter og onkler tar med seg barn og unge til museet denne dagen til en skikkelig koselig søndag. Kafeen har deilige fastelavnsboller og Sanitetsforeningen stiller med ris og fjær\, og barna får lage sine egne ris. \nVi trenger 5-8 frivillige fordelt utover søndagen. Super anledning bli kjent med andre GOS’ere\, møte andre fra nabolaget og ta del i en fin tradisjon. Du kan og gjerne komme med eget barn\, tantebarn eller barnebarn. Erfarne medlemmer viser vei. \nHva: Fastelavnssøndag på museet\, binding – aktivitet: vi viser barna hvordan\, barna lager egne ris med fjær! \nSe https://www.oslomuseum.no/arkiv/gjentakende-arrangementer/fastelavn/
URL:https://nksoslofylke.no/kalender/fastelavnssondag-15-februar-pa-interkulturelt-museum-arrangert-av-gamle-oslo-sanitetsforening/
LOCATION:Interkulturelt Museum\, Tøyenbekken 5\, Oslo\, 0188\, Norway
ATTACH;FMTTYPE=image/webp:https://nksoslofylke.no/wp-content/uploads/2026/01/fastelavn-verksted-oslo-museum.webp
END:VEVENT
BEGIN:VEVENT
DTSTART;TZID=Europe/Oslo:20260215T130000
DTEND;TZID=Europe/Oslo:20260215T150000
DTSTAMP:20260423T105404
CREATED:20260107T091217Z
LAST-MODIFIED:20260107T091258Z
UID:9907-1771160400-1771167600@nksoslofylke.no
SUMMARY:Fastelavns- og søndagskafe 15. februar i Høybråten sanitetsforening
DESCRIPTION:Høybråten sanitetsforening inviterer til Fastelavns- og søndagskafe 15. februar kl 13.00 – 15.00. \nVi selger kaffe\, boller med krem og fastelavnsris (hvis vi har igjen 😀) Store og små er velkomne til Huset Vårt i Bergtunveien 7 b\, Oslo.
URL:https://nksoslofylke.no/kalender/fastelavns-og-sondagskafe-15-februar-i-hoybraten-sanitetsforening/
LOCATION:Bergtunveien 7 b\, Oslo\, 1087\, Norway
ATTACH;FMTTYPE=image/jpeg:https://nksoslofylke.no/wp-content/uploads/2026/01/Fastelavn.jpg
END:VEVENT
END:VCALENDAR