BEGIN:VCALENDAR
VERSION:2.0
PRODID:-//NKS Oslo fylke - ECPv6.15.12//NONSGML v1.0//EN
CALSCALE:GREGORIAN
METHOD:PUBLISH
X-WR-CALNAME:NKS Oslo fylke
X-ORIGINAL-URL:https://nksoslofylke.no
X-WR-CALDESC:Arrangement for NKS Oslo fylke
REFRESH-INTERVAL;VALUE=DURATION:PT1H
X-Robots-Tag:noindex
X-PUBLISHED-TTL:PT1H
BEGIN:VTIMEZONE
TZID:Europe/Oslo
BEGIN:DAYLIGHT
TZOFFSETFROM:+0100
TZOFFSETTO:+0200
TZNAME:CEST
DTSTART:20250330T010000
END:DAYLIGHT
BEGIN:STANDARD
TZOFFSETFROM:+0200
TZOFFSETTO:+0100
TZNAME:CET
DTSTART:20251026T010000
END:STANDARD
BEGIN:DAYLIGHT
TZOFFSETFROM:+0100
TZOFFSETTO:+0200
TZNAME:CEST
DTSTART:20260329T010000
END:DAYLIGHT
BEGIN:STANDARD
TZOFFSETFROM:+0200
TZOFFSETTO:+0100
TZNAME:CET
DTSTART:20261025T010000
END:STANDARD
BEGIN:DAYLIGHT
TZOFFSETFROM:+0100
TZOFFSETTO:+0200
TZNAME:CEST
DTSTART:20270328T010000
END:DAYLIGHT
BEGIN:STANDARD
TZOFFSETFROM:+0200
TZOFFSETTO:+0100
TZNAME:CET
DTSTART:20271031T010000
END:STANDARD
END:VTIMEZONE
BEGIN:VEVENT
DTSTART;TZID=Europe/Oslo:20260217T180000
DTEND;TZID=Europe/Oslo:20260217T180000
DTSTAMP:20260421T091735
CREATED:20260122T165441Z
LAST-MODIFIED:20260122T171342Z
UID:10101-1771351200-1771351200@nksoslofylke.no
SUMMARY:Multimediafilm om kortreist ferie fra Lindesnes til Rondane 17. februar - Blindern og Vinderen sanitetsforening
DESCRIPTION:Blindern og Vinderen sanitetsforening inviterer til visning av multimediafilm om kortreist ferie fra Lindesnes til Rondane \nNår: Tirsdag 17. februar  kl 18\nSted: Villa Ly i Tennisveien 2G \nDet blir det ikke temamøte om beredskap som annonsert før jul\, men en multimediafilm om kortreist ferie fra Lindesnes til Rondane\, fremført av naturfotograf Svein Holo.  Det blir et «feelgoodmøte» med litt å bite i. \nKr 50 for medlemmer og kr 100 for ikke medlemmer. Vipps #12753.
URL:https://nksoslofylke.no/kalender/multimediafilm-om-kortreist-ferie-fra-lindesnes-til-rondane-17-februar-blindern-og-vinderen-sanitetsforening/
LOCATION:Villa Ly\, Tennisveien 2G\, Tennisveien 2 G\, Oslo\, 0777\, Norway
ATTACH;FMTTYPE=image/png:https://nksoslofylke.no/wp-content/uploads/2026/01/Svein-Holo.png
END:VEVENT
BEGIN:VEVENT
DTSTART;TZID=Europe/Oslo:20260222T120000
DTEND;TZID=Europe/Oslo:20260222T140000
DTSTAMP:20260421T091735
CREATED:20260209T082843Z
LAST-MODIFIED:20260209T082843Z
UID:10200-1771761600-1771768800@nksoslofylke.no
SUMMARY:Kløvertur fra Bygdøy til Skøyen - 22. februar\, arrangert av Oslo sanitetsforening
DESCRIPTION:Kløvertur fra Bygdøy til Skøyen\, søndag 22. februar kl 12.00 – 14.00 \nBli med på en hyggelig tur gjennom naturskjønne Bygdøy! Vi går fra Huk til Skøyen langs fine turveier\, omgitt av vakker natur og frisk luft. Dette er en enkel og sosial tur som passer for alle. \nPraktisk informasjon: \n– Møtested: Huk bussholdeplass klokka 12. Buss 30 \n– Varighet: Ca. 2 timer \n– Vanskelighetsgrad: Enkel ☘️ \n– Ta med matpakke og drikke\, så tar vi en liten pause underveis. \n– Brodder eller piggsko kan bli nødvendig. \nFor å melde deg på\, vennligst send en SMS til turleder Tona på nummer 951 30 504. \nVelkommen fra Oslo sanitetsforening
URL:https://nksoslofylke.no/kalender/klovertur-fra-bygdoy-til-skoyen-22-februar-arrangert-av-oslo-sanitetsforening/
LOCATION:Huk bussholdeplass\, Oslo\, 0287\, Norway
ATTACH;FMTTYPE=image/jpeg:https://nksoslofylke.no/wp-content/uploads/2026/02/Klovertur_2-1-scaled.jpg
END:VEVENT
END:VCALENDAR