BEGIN:VCALENDAR
VERSION:2.0
PRODID:-//NKS Oslo fylke - ECPv6.15.12//NONSGML v1.0//EN
CALSCALE:GREGORIAN
METHOD:PUBLISH
X-WR-CALNAME:NKS Oslo fylke
X-ORIGINAL-URL:https://nksoslofylke.no
X-WR-CALDESC:Arrangement for NKS Oslo fylke
REFRESH-INTERVAL;VALUE=DURATION:PT1H
X-Robots-Tag:noindex
X-PUBLISHED-TTL:PT1H
BEGIN:VTIMEZONE
TZID:Europe/Oslo
BEGIN:DAYLIGHT
TZOFFSETFROM:+0100
TZOFFSETTO:+0200
TZNAME:CEST
DTSTART:20250330T010000
END:DAYLIGHT
BEGIN:STANDARD
TZOFFSETFROM:+0200
TZOFFSETTO:+0100
TZNAME:CET
DTSTART:20251026T010000
END:STANDARD
BEGIN:DAYLIGHT
TZOFFSETFROM:+0100
TZOFFSETTO:+0200
TZNAME:CEST
DTSTART:20260329T010000
END:DAYLIGHT
BEGIN:STANDARD
TZOFFSETFROM:+0200
TZOFFSETTO:+0100
TZNAME:CET
DTSTART:20261025T010000
END:STANDARD
BEGIN:DAYLIGHT
TZOFFSETFROM:+0100
TZOFFSETTO:+0200
TZNAME:CEST
DTSTART:20270328T010000
END:DAYLIGHT
BEGIN:STANDARD
TZOFFSETFROM:+0200
TZOFFSETTO:+0100
TZNAME:CET
DTSTART:20271031T010000
END:STANDARD
END:VTIMEZONE
BEGIN:VEVENT
DTSTART;TZID=Europe/Oslo:20260303T180000
DTEND;TZID=Europe/Oslo:20260303T180000
DTSTAMP:20260421T052609
CREATED:20260111T184725Z
LAST-MODIFIED:20260111T210634Z
UID:9999-1772560800-1772560800@nksoslofylke.no
SUMMARY:Kløvertur om Grefsen og osteprodusenten Synnøve Finden\, 3. mars kl 18.00 - Grefsen\, Kjelsås og omegn sanitetsforening
DESCRIPTION:Grefsen\, Kjelsås og omegn sanitetsforening inviterer til Kløvertur 3. mars. \nHva har Grefsen brannstasjon og Synnøve Finden med hverandre å gjøre? Jo\, begge holdt til på Grefsen. Osloguide Linda Grey kommer og forteller historien om osteprodusenten som klarte seg i konkurranse med Tine. Turen går forbi steder hvor hun holdt til. Vi serverer kaffe og saft. \nOppmøte: Den gamle brannstasjonen i Nordhagaveien 1. \nTA MED KOPP! \nTuren er for alle. Velkommen! \nTuren er et samarbeid mellom Kjelsås idrettslag\, historielagene på Grefsen/Kjelsås/Nydalen og Tåsen/Nordberg/Ullevål og Grefsen og Kjelsås sanitetsforening.
URL:https://nksoslofylke.no/kalender/klovertur-om-grefsen-og-osteprodusenten-synnove-finden-3-mars-kl-18-00-grefsen-kjelsas-og-omegn-sanitetsforening/
LOCATION:Den gamle brannstasjonen\, Nordhagaveien 1\, Nordhagaveien 1\, Oslo\, 0491\, Norway
ATTACH;FMTTYPE=image/png:https://nksoslofylke.no/wp-content/uploads/2026/01/Synnove.png
END:VEVENT
BEGIN:VEVENT
DTSTART;TZID=Europe/Oslo:20260304T190000
DTEND;TZID=Europe/Oslo:20260304T190000
DTSTAMP:20260421T052609
CREATED:20260107T091829Z
LAST-MODIFIED:20260107T153512Z
UID:9910-1772650800-1772650800@nksoslofylke.no
SUMMARY:Åpent møte 4. mars kl 19.00 på Høybråten: Knut Kraft forteller og viser dyrebilder fra nærområdet
DESCRIPTION:Høybråten Sanitetsforening arrangerer åpent månedsmøte onsdag 4.mars kl. 19.00 med Knut Kraft som forteller og viser dyrebilder fra nærområdet. \nKaffe og kake – ta med gevinst. \nVelkommen til «Huset Vårt» i Bergtunveien 7 b på Høybråten.
URL:https://nksoslofylke.no/kalender/apent-mote-i-hoybraten-4-mars-knut-kraft-forteller-og-viser-dyrebilder-fra-naeromradet/
LOCATION:Bergtunveien 7 b\, Oslo\, 1087\, Norway
ATTACH;FMTTYPE=image/png:https://nksoslofylke.no/wp-content/uploads/2026/01/Rev.png
END:VEVENT
BEGIN:VEVENT
DTSTART;TZID=Europe/Oslo:20260308T143000
DTEND;TZID=Europe/Oslo:20260308T170000
DTSTAMP:20260421T052609
CREATED:20260224T202858Z
LAST-MODIFIED:20260224T203156Z
UID:10275-1772980200-1772989200@nksoslofylke.no
SUMMARY:Sanitetskvinnene går i 8.mars-tog - Oslo
DESCRIPTION:Sanitetskvinnene Oslo fylke og lokalforeningene går i 8.-marstoget kl 16.00. Møt opp kl 14.30 på Youngs! \nSanitetskvinnene i Oslo går i 8. mars-toget på Youngstorget kl 16.00 med følgende paroler: \n\nBedre barselomsorg er god folkehelse\nTa kroppen vår på alvor – mer penger til kvinnehelseforskning!\n\nBli med\, og ta med en venninne\, datter\, søster\, nabo eller kollega. \nVi møtes på Youngs\, på Youngstorget kl 14.30\, og har med plakater og bannere.
URL:https://nksoslofylke.no/kalender/sanitetskvinnene-gar-i-8-mars-tog-oslo/
LOCATION:Youngs\, Youngsgate 3\, Youngsgate 3\, Oslo\, 0181\, Norway
ATTACH;FMTTYPE=image/jpeg:https://nksoslofylke.no/wp-content/uploads/2025/11/IMG_5032-scaled.jpg
ORGANIZER;CN="Sanitetskvinnene Oslo fylke":MAILTO:nksoslofylke@outlook.com
END:VEVENT
END:VCALENDAR