BEGIN:VCALENDAR
VERSION:2.0
PRODID:-//NKS Oslo fylke - ECPv6.15.12//NONSGML v1.0//EN
CALSCALE:GREGORIAN
METHOD:PUBLISH
X-ORIGINAL-URL:https://nksoslofylke.no
X-WR-CALDESC:Arrangement for NKS Oslo fylke
REFRESH-INTERVAL;VALUE=DURATION:PT1H
X-Robots-Tag:noindex
X-PUBLISHED-TTL:PT1H
BEGIN:VTIMEZONE
TZID:Europe/Oslo
BEGIN:DAYLIGHT
TZOFFSETFROM:+0100
TZOFFSETTO:+0200
TZNAME:CEST
DTSTART:20250330T010000
END:DAYLIGHT
BEGIN:STANDARD
TZOFFSETFROM:+0200
TZOFFSETTO:+0100
TZNAME:CET
DTSTART:20251026T010000
END:STANDARD
BEGIN:DAYLIGHT
TZOFFSETFROM:+0100
TZOFFSETTO:+0200
TZNAME:CEST
DTSTART:20260329T010000
END:DAYLIGHT
BEGIN:STANDARD
TZOFFSETFROM:+0200
TZOFFSETTO:+0100
TZNAME:CET
DTSTART:20261025T010000
END:STANDARD
BEGIN:DAYLIGHT
TZOFFSETFROM:+0100
TZOFFSETTO:+0200
TZNAME:CEST
DTSTART:20270328T010000
END:DAYLIGHT
BEGIN:STANDARD
TZOFFSETFROM:+0200
TZOFFSETTO:+0100
TZNAME:CET
DTSTART:20271031T010000
END:STANDARD
END:VTIMEZONE
BEGIN:VEVENT
DTSTART;TZID=Europe/Oslo:20260319T180000
DTEND;TZID=Europe/Oslo:20260319T180000
DTSTAMP:20260421T074330
CREATED:20260109T202137Z
LAST-MODIFIED:20260109T203152Z
UID:9987-1773943200-1773943200@nksoslofylke.no
SUMMARY:Årsmøte 19. mars kl 18.00 i Blindern og Vinderen sanitetsforening
DESCRIPTION:Blindern og Vinderen arrangerer årsmøte torsdag 19.mars kl. 18.00 i Villa Ly\, Tennisveien 2G på Slemdal.
URL:https://nksoslofylke.no/kalender/arsmote-19-mars-kl-18-00-i-blindern-og-vinderen-sanitetsforening/
LOCATION:Villa Ly\, Tennisveien 2G\, Tennisveien 2 G\, Oslo\, 0777\, Norway
ATTACH;FMTTYPE=image/jpeg:https://nksoslofylke.no/wp-content/uploads/2026/01/858d0fa716ccb857858ba92b1954daa0-image.jpeg
END:VEVENT
BEGIN:VEVENT
DTSTART;TZID=Europe/Oslo:20260320T190000
DTEND;TZID=Europe/Oslo:20260320T190000
DTSTAMP:20260421T074330
CREATED:20260107T132435Z
LAST-MODIFIED:20260107T132435Z
UID:9914-1774033200-1774033200@nksoslofylke.no
SUMMARY:"Strikk og Skravl" i Høybråten sanitetsforening 20. mars kl. 19.00
DESCRIPTION:Høybråten sanitetsforening inviterer til «Strikk og Skravl»\, fredag 20. mars kl 19.00 i Bergtunveien 7 b. \nKom med eller uten håndarbeid – åpent for alle. Vi holder kaffe og noe snacks. Ta gjerne med noe godt å drikke- vi lar skravla gå – har du en liten gevinst til ett lite lotteri er det flott! Sted:
URL:https://nksoslofylke.no/kalender/strikk-og-skravl-i-hoybraten-sanitetsforening-20-mars-kl-19-00/
LOCATION:Bergtunveien 7 b\, Oslo\, 1087\, Norway
ATTACH;FMTTYPE=image/jpeg:https://nksoslofylke.no/wp-content/uploads/2026/01/Skravl.jpg
END:VEVENT
BEGIN:VEVENT
DTSTART;TZID=Europe/Oslo:20260322T130000
DTEND;TZID=Europe/Oslo:20260322T150000
DTSTAMP:20260421T074330
CREATED:20260107T134904Z
LAST-MODIFIED:20260108T092414Z
UID:9917-1774184400-1774191600@nksoslofylke.no
SUMMARY:Vårkafe med Bruktmarked i Høybråten sanitetsforening\, 22. mars kl 13.00
DESCRIPTION:Høybråten sanitetsforening inviterer til vårkafe med bruktmarked 22. mars kl. 13.00 – 15.00 \nVi selger kaffe\, vafler og kaker. Medlemmer og andre selger brukte klær og leker. Like artig som loppemarked! \nVelkommen til «Huset vårt» i Bergtunveien 7 b på Høybråten.
URL:https://nksoslofylke.no/kalender/varkafe-med-bruktmarked-i-hoybraten-sanitetsforening-22-mai-kl-13-00/
LOCATION:Bergtunveien 7 b\, Oslo\, 1087\, Norway
ATTACH;FMTTYPE=image/jpeg:https://nksoslofylke.no/wp-content/uploads/2026/01/Bruktmarked.jpg
END:VEVENT
END:VCALENDAR