BEGIN:VCALENDAR
VERSION:2.0
PRODID:-//NKS Oslo fylke - ECPv6.15.12//NONSGML v1.0//EN
CALSCALE:GREGORIAN
METHOD:PUBLISH
X-WR-CALNAME:NKS Oslo fylke
X-ORIGINAL-URL:https://nksoslofylke.no
X-WR-CALDESC:Arrangement for NKS Oslo fylke
REFRESH-INTERVAL;VALUE=DURATION:PT1H
X-Robots-Tag:noindex
X-PUBLISHED-TTL:PT1H
BEGIN:VTIMEZONE
TZID:Europe/Oslo
BEGIN:DAYLIGHT
TZOFFSETFROM:+0100
TZOFFSETTO:+0200
TZNAME:CEST
DTSTART:20250330T010000
END:DAYLIGHT
BEGIN:STANDARD
TZOFFSETFROM:+0200
TZOFFSETTO:+0100
TZNAME:CET
DTSTART:20251026T010000
END:STANDARD
BEGIN:DAYLIGHT
TZOFFSETFROM:+0100
TZOFFSETTO:+0200
TZNAME:CEST
DTSTART:20260329T010000
END:DAYLIGHT
BEGIN:STANDARD
TZOFFSETFROM:+0200
TZOFFSETTO:+0100
TZNAME:CET
DTSTART:20261025T010000
END:STANDARD
BEGIN:DAYLIGHT
TZOFFSETFROM:+0100
TZOFFSETTO:+0200
TZNAME:CEST
DTSTART:20270328T010000
END:DAYLIGHT
BEGIN:STANDARD
TZOFFSETFROM:+0200
TZOFFSETTO:+0100
TZNAME:CET
DTSTART:20271031T010000
END:STANDARD
END:VTIMEZONE
BEGIN:VEVENT
DTSTART;TZID=Europe/Oslo:20260422T180000
DTEND;TZID=Europe/Oslo:20260422T180000
DTSTAMP:20260420T215011
CREATED:20260327T163344Z
LAST-MODIFIED:20260327T183219Z
UID:10326-1776880800-1776880800@nksoslofylke.no
SUMMARY:Grefsen\, Kjelsås og omegn sanitetsforening inviterer til åpent temamøte 22. april kl. 18.00
DESCRIPTION:Grefsen\, Kjelsås og omegn sanitetsforening inviterer til åpent temamøte\, onsdag 22. april kl. 18.00\, Storstua\, Grefsentunet 2 \nBenskjørhet eller osteoporose – hva er det og kan vi gjøre noe hvis har- eller får det? Og hvordan vet vi at vi har det? \nVi har vært så heldige å få med oss overlegene Ruth Aga og Camilla Holter Huseby fra Oslo universitetssykehus/Aker. Camilla er i tillegg fastlege. De har begge lang erfaring med osteoporosepasienter. På møtet deler de sin erfaring med oss:  \n\nHva er egentlig benskjørhet/osteoporose?\nEr det noe vi kan gjøre for å forebygge? Og kan vi behandle?\nEr det bare en kvinnesykdom eller har menn det også?\nEr det sant at mange kvinner over 54 år er benskjøre og får ikke vite det før de har et brudd?\nHva er bentetthetsmåling og DXA-maskin\, og har vi det på Aker – nærsykehuset vårt?\nOg mye mer – det blir også tid til å stille spørsmål til våre dyktige leger.\n\nPS: «Menn kan også være benskjøre\,» så hjertelig velkommen. \nVel møtt til å lære mer om det som mange kaller en kvinnesykdom. \nEnkel servering og loddsalg. \n Vel møtt!
URL:https://nksoslofylke.no/kalender/grefsen-kjelsas-og-omegn-sanitetsforening-inviterer-til-apent-temamote-22-april-kl-18-00/
LOCATION:Storstua\, Grefsentunet 2\, Grefsentunet 2\, Oslo\, 0488\, Norway
ATTACH;FMTTYPE=image/png:https://nksoslofylke.no/wp-content/uploads/2026/03/Benskjorhet-og-brudd-1.png
END:VEVENT
BEGIN:VEVENT
DTSTART;TZID=Europe/Oslo:20260425T100000
DTEND;TZID=Europe/Oslo:20260425T150000
DTSTAMP:20260420T215011
CREATED:20260204T123917Z
LAST-MODIFIED:20260204T131525Z
UID:10167-1777111200-1777129200@nksoslofylke.no
SUMMARY:Årsmøte 2026 i Sanitetskvinnene Oslo fylke\, lørdag 25. april kl 10.00 - 15.00
DESCRIPTION:Årsmøtet 2026 i Sanitetskvinnene Oslo fylke\, lørdag 25. april kl 10.00 – 15.00 på Kvinnehelsehus Oslo \nSanitetsforeningen Oslo fylke avholder sitt årsmøte i 2026\,  lørdag 25. april kl 10.00 – 15.00 på Kvinnehelsehus Oslo\, Hagegata 32 på Tøyen. \nInnkallingen til fylkesårsmøtet sendes ut til lokalforeningene senest 25. februar med informasjon om frist for innkomne forslag som ønskes behandlet på møtet\, samt frist for kandidater til valg.
URL:https://nksoslofylke.no/kalender/arsmotet-i-sanitetskvinnene-oslo-fylke-lordag-25-april-2026/
LOCATION:Kvinnehelsehus Oslo\, Hagegata 32\, Oslo\, 0653
ATTACH;FMTTYPE=image/png:https://nksoslofylke.no/wp-content/uploads/2026/02/Arsmote-Oslo-fylke-2026-2.png
ORGANIZER;CN="Sanitetskvinnene Oslo fylke":MAILTO:nksoslofylke@outlook.com
END:VEVENT
END:VCALENDAR