BEGIN:VCALENDAR
VERSION:2.0
PRODID:-//NKS Oslo fylke - ECPv6.15.12//NONSGML v1.0//EN
CALSCALE:GREGORIAN
METHOD:PUBLISH
X-WR-CALNAME:NKS Oslo fylke
X-ORIGINAL-URL:https://nksoslofylke.no
X-WR-CALDESC:Arrangement for NKS Oslo fylke
REFRESH-INTERVAL;VALUE=DURATION:PT1H
X-Robots-Tag:noindex
X-PUBLISHED-TTL:PT1H
BEGIN:VTIMEZONE
TZID:Europe/Oslo
BEGIN:DAYLIGHT
TZOFFSETFROM:+0100
TZOFFSETTO:+0200
TZNAME:CEST
DTSTART:20250330T010000
END:DAYLIGHT
BEGIN:STANDARD
TZOFFSETFROM:+0200
TZOFFSETTO:+0100
TZNAME:CET
DTSTART:20251026T010000
END:STANDARD
BEGIN:DAYLIGHT
TZOFFSETFROM:+0100
TZOFFSETTO:+0200
TZNAME:CEST
DTSTART:20260329T010000
END:DAYLIGHT
BEGIN:STANDARD
TZOFFSETFROM:+0200
TZOFFSETTO:+0100
TZNAME:CET
DTSTART:20261025T010000
END:STANDARD
BEGIN:DAYLIGHT
TZOFFSETFROM:+0100
TZOFFSETTO:+0200
TZNAME:CEST
DTSTART:20270328T010000
END:DAYLIGHT
BEGIN:STANDARD
TZOFFSETFROM:+0200
TZOFFSETTO:+0100
TZNAME:CET
DTSTART:20271031T010000
END:STANDARD
END:VTIMEZONE
BEGIN:VEVENT
DTSTART;TZID=Europe/Oslo:20260505T180000
DTEND;TZID=Europe/Oslo:20260505T180000
DTSTAMP:20260420T225018
CREATED:20260111T193425Z
LAST-MODIFIED:20260111T193425Z
UID:10018-1778004000-1778004000@nksoslofylke.no
SUMMARY:Kløvertur om Solemskogen\, 5. mai kl 18.00 - Grefsen\, Kjelsås og omegn sanitetsforening
DESCRIPTION:Grefsen\, Kjelsås og omegn sanitetsforening inviterer til Kløvertur 5. mai kl 18.00 \n5. mai kl. 18.00 starter vi på parkeringsplassen på Solemskogen. Tore Faller fra Historielaget forteller «Historien om Solemskogen.» Vi går på stier og i litt ulendt terreng. For dere som kommer med buss: vi venter til bussen er kommet. \nTA MED KOPP! \nTuren er for alle. Velkommen! \nTuren er et samarbeid mellom Kjelsås idrettslag\, historielagene på Grefsen/Kjelsås/Nydalen og Tåsen/Nordberg/Ullevål og Grefsen og Kjelsås sanitetsforening.
URL:https://nksoslofylke.no/kalender/klovertur-om-solemskogen-5-mai-kl-18-00-grefsen-kjelsas-og-omegn-sanitetsforening/
LOCATION:Parkeringsplassen Solemskogen\, Parkeringsplassen\, Solemskogen\, Oslo\, 0496\, Norway
ATTACH;FMTTYPE=image/jpeg:https://nksoslofylke.no/wp-content/uploads/2026/01/Solemskogen.jpg
END:VEVENT
BEGIN:VEVENT
DTSTART;TZID=Europe/Oslo:20260506T190000
DTEND;TZID=Europe/Oslo:20260506T190000
DTSTAMP:20260420T225018
CREATED:20260107T140541Z
LAST-MODIFIED:20260107T153313Z
UID:9925-1778094000-1778094000@nksoslofylke.no
SUMMARY:Åpent møte i Høybråten sanitetsforening 6. mai kl 19.00 om "Jakten på Norges kommuner"
DESCRIPTION:Høybråten sanitetsforening inviterer til åpent møte onsdag 6. mai kl. 19.00 i Bergtunveien 7 b. \nMay Lilly Colban holder et foredrag om «Jakten på Norges kommuner». \nServering av kaffe/kake. Ta med gevinst. Velkommen!
URL:https://nksoslofylke.no/kalender/apent-mote-i-hoybraten-sanitetsforening-6-mai-kl-19-00-om-jakten-pa-norges-kommuner/
LOCATION:Bergtunveien 7 b\, Oslo\, 1087\, Norway
ATTACH;FMTTYPE=image/jpeg:https://nksoslofylke.no/wp-content/uploads/2026/01/Kommuner.jpg
END:VEVENT
END:VCALENDAR