BEGIN:VCALENDAR
VERSION:2.0
PRODID:-//NKS Oslo fylke - ECPv6.15.12//NONSGML v1.0//EN
CALSCALE:GREGORIAN
METHOD:PUBLISH
X-ORIGINAL-URL:https://nksoslofylke.no
X-WR-CALDESC:Arrangement for NKS Oslo fylke
REFRESH-INTERVAL;VALUE=DURATION:PT1H
X-Robots-Tag:noindex
X-PUBLISHED-TTL:PT1H
BEGIN:VTIMEZONE
TZID:Europe/Oslo
BEGIN:DAYLIGHT
TZOFFSETFROM:+0100
TZOFFSETTO:+0200
TZNAME:CEST
DTSTART:20250330T010000
END:DAYLIGHT
BEGIN:STANDARD
TZOFFSETFROM:+0200
TZOFFSETTO:+0100
TZNAME:CET
DTSTART:20251026T010000
END:STANDARD
BEGIN:DAYLIGHT
TZOFFSETFROM:+0100
TZOFFSETTO:+0200
TZNAME:CEST
DTSTART:20260329T010000
END:DAYLIGHT
BEGIN:STANDARD
TZOFFSETFROM:+0200
TZOFFSETTO:+0100
TZNAME:CET
DTSTART:20261025T010000
END:STANDARD
BEGIN:DAYLIGHT
TZOFFSETFROM:+0100
TZOFFSETTO:+0200
TZNAME:CEST
DTSTART:20270328T010000
END:DAYLIGHT
BEGIN:STANDARD
TZOFFSETFROM:+0200
TZOFFSETTO:+0100
TZNAME:CET
DTSTART:20271031T010000
END:STANDARD
END:VTIMEZONE
BEGIN:VEVENT
DTSTART;TZID=Europe/Oslo:20260901T180000
DTEND;TZID=Europe/Oslo:20260901T180000
DTSTAMP:20260421T061936
CREATED:20260111T195724Z
LAST-MODIFIED:20260111T195724Z
UID:10026-1788285600-1788285600@nksoslofylke.no
SUMMARY:Kløvertur til husmannsplassen Holstein og området rundt\, 1. september kl 18.00 - Grefsen\, Kjelsås og omegn sanitetsforening
DESCRIPTION:Grefsen\, Kjelsås og omegn sanitetsforening inviterer til Kløvertur 1. september.  \nDen 1. september kl. 18.00 går turen til Holstein\, husmannsplassen og området rundt. Vi starter fra Holstein T-bane stasjon\, og Historielaget guider oss på en fin tur med mye spennende historie. Vi avslutter med kaffe. \nTA MED KOPP! \nTuren er for alle. Velkommen! \nTuren er et samarbeid mellom Kjelsås idrettslag\, historielagene på Grefsen/Kjelsås/Nydalen og Tåsen/Nordberg/Ullevål og Grefsen og Kjelsås sanitetsforening.
URL:https://nksoslofylke.no/kalender/klovertur-til-husmannsplassen-holstein-og-omradet-rundt-1-september-kl-18-00-grefsen-kjelsas-og-omegn-sanitetsforening/
LOCATION:Holstein T-banestasjon\, Holstein T-banestasjon\, Oslo\, 0860\, Norway
ATTACH;FMTTYPE=image/jpeg:https://nksoslofylke.no/wp-content/uploads/2026/01/Oslo_Holsteinveien-1.jpg
END:VEVENT
END:VCALENDAR